BEGIN:VCALENDAR
VERSION:2.0
PRODID:-//Fichtenkamm Reisen - ECPv5.12.3//NONSGML v1.0//EN
CALSCALE:GREGORIAN
METHOD:PUBLISH
X-WR-CALNAME:Fichtenkamm Reisen
X-ORIGINAL-URL:https://fichtenkamm.de
X-WR-CALDESC:Veranstaltungen fÃ¼r Fichtenkamm Reisen
BEGIN:VTIMEZONE
TZID:Europe/Berlin
BEGIN:DAYLIGHT
TZOFFSETFROM:+0100
TZOFFSETTO:+0200
TZNAME:CEST
DTSTART:20260329T010000
END:DAYLIGHT
BEGIN:STANDARD
TZOFFSETFROM:+0200
TZOFFSETTO:+0100
TZNAME:CET
DTSTART:20261025T010000
END:STANDARD
END:VTIMEZONE
BEGIN:VEVENT
DTSTART;VALUE=DATE:20260824
DTEND;VALUE=DATE:20260829
DTSTAMP:20260421T185926
CREATED:20251230T150909Z
LAST-MODIFIED:20260303T145003Z
UID:16199-1787529600-1787961599@fichtenkamm.de
SUMMARY:Zauberhafter Lago Maggiore
DESCRIPTION:Entfliehen Sie dem Alltag und tauchen Sie ein in die faszinierende Welt der oberitalienischen Seen. Eine Reise an den Lago Maggiore kombiniert mediterranes Flair mit alpiner Kulisse\, wobei Stresa als Ausgangspunkt fÃ¼r AusflÃ¼ge zu den BorromÃ¤ischen Inseln mit ihren barocken PalÃ¤sten und GÃ¤rten dient\, wÃ¤hrend der nahe Ortasee mit seinem mystischen Charme\, der Insel San Giulio und dem Wallfahrtsort Sacro Monte lockt. Eine ideale Mischung aus luxuriÃ¶sem Charme\, atemberaubender Natur und kulturellen Highlights. \n  \n1. Tag: Â Anreise \nNach einer entspannten Anreise Ã¼ber Basel und Bellinzona beziehen Sie Ihr 4*-Hotel in Stresa direkt am Lago Maggiore. Zum Abschluss des ersten Tages genieÃŸen Sie das Abendessen im Hotel. \n  \n2. Tag: Â BorromÃ¤ische Inseln \nEntdecken Sie den Zauber der BorromÃ¤ischen Inseln bei einer exklusiven Bootsfahrt. Begleitet von Ihrer Reiseleitung erkunden Sie die prachtvolle Isola Bella\, deren Barockpalast und terrassenfÃ¶rmige GÃ¤rten. Im Kontrast dazu erwartet Sie auf der Isola Madre eine Oase der Ruhe mit botanischen RaritÃ¤ten. Den Tag lassen Sie entspannt in den charmanten Gassen von Stresa ausklingen. \n  \n3. Tag: Â Ortasee \nBesuchen Sie heute den Entdecken Sie heute den malerischen Ortasee\, ein glitzerndes Juwel im Herzen des Piemonts. In der pittoresken Altstadt von Orta San Giulio tauchen Sie in ein unvergleichliches Flair aus verwinkelten Gassen und idyllischen PlÃ¤tzen ein. Ein kurzes StÃ¼ck Ã¼ber das klare Wasser fÃ¼hrt Sie das Boot zur geschichtstrÃ¤chtigen Isola di San Giulio\, wo Sie die beeindruckende Basilika aus dem 12. Jahrhundert besichtigen. \n  \n4. Tag: Â Verbania \nHeute geht es nach Verbania! Aufgrund ihrer prachtvollen Parkanlagen wird der Ort zurecht als die grÃ¼ne Lunge des Sees gerÃ¼hmt. Besonders der Stadtteil Pallanza besticht durch seine herrschaftlichen Villen und mediterranem Ambiente. Ein absolutes Highlight ist die Gelegenheit\, die berÃ¼hmten Botanischen GÃ¤rten der Villa Taranto zu besuchen. \n  \n5. Tag: Â RÃ¼ckreise \nLeider heiÃŸt es heute schon wieder Abschied nehmen von Italien. Mit schÃ¶nen Erinnerungen treten Sie die Heimreise an.
URL:https://fichtenkamm.de/reise/zauberhafter-lago-maggiore-2/
CATEGORIES:Genuss- & Erlebnisreisen,Urlaubsreisen
ATTACH;FMTTYPE=image/jpeg:https://fichtenkamm.de/wp-content/uploads/2026/02/3AdobeStock_218495753_LagoMaggiore.jpg
END:VEVENT
END:VCALENDAR