BEGIN:VCALENDAR
VERSION:2.0
PRODID:-//Fichtenkamm Reisen - ECPv5.12.3//NONSGML v1.0//EN
CALSCALE:GREGORIAN
METHOD:PUBLISH
X-WR-CALNAME:Fichtenkamm Reisen
X-ORIGINAL-URL:https://fichtenkamm.de
X-WR-CALDESC:Veranstaltungen fÃ¼r Fichtenkamm Reisen
BEGIN:VTIMEZONE
TZID:Europe/Berlin
BEGIN:DAYLIGHT
TZOFFSETFROM:+0100
TZOFFSETTO:+0200
TZNAME:CEST
DTSTART:20250330T010000
END:DAYLIGHT
BEGIN:STANDARD
TZOFFSETFROM:+0200
TZOFFSETTO:+0100
TZNAME:CET
DTSTART:20251026T010000
END:STANDARD
END:VTIMEZONE
BEGIN:VEVENT
DTSTART;VALUE=DATE:20250514
DTEND;VALUE=DATE:20250515
DTSTAMP:20260424T115915
CREATED:20250514T102941Z
LAST-MODIFIED:20250514T102941Z
UID:15842-1747180800-1747267199@fichtenkamm.de
SUMMARY:Zauberhafte Loire
DESCRIPTION:Im Loiretal gibt es viele schÃ¶ne KulturerbestÃ¤tten zu entdecken. An keinem anderen Fleck in Europa sind so viele anmutige SchlÃ¶sser zu finden wie hier. Die majestÃ¤tischen SchlÃ¶sser erinnern daran\, dass das Tal jahrhundertelang die bevorzugte Region des franzÃ¶sischen Hofes war. Entdecken Sie dieses einzigartige Kulturerbe vor der auÃŸergewÃ¶hnlichen Landschaftskulisse und lassen Sie sich in die vergangenen Epochen entfÃ¼hren. \nÂ  \nÂ  \n1. Tag: Anreise nach Tours \nAm frÃ¼hen Morgens startet Ihre Reise und fÃ¼hrt Sie Ã¼ber Nancy â€“ Orleans nach Tours zu Ihrem ***-Hotel. Nach der Zimmerverteilung erwartet Sie das Abendessen im hotelnahen Restaurant. \n  \n2. Tag: Chenonceau & Weinprobe\n \nNach dem FrÃ¼hstÃ¼ck lernen Sie bei einem gefÃ¼hrten Stadtrundgang die alten Viertel von Tours bis hin zur Kathedrale St. Gatien nÃ¤her kennen. AnschlieÃŸend Weiterfahrt zum herrlichen\, ganz im Renaissancestil erbauten\, Wasserschloss Chenonceau mit Bootsfahrt auf dem Cher. Zum Abschluss des Tages erwartet Sie eine schÃ¶ne Weinporbe. Abendessen im hotelnahen Restaurant. \n  \n3. Tag: Azay-le-Rideau &#8211; Villandry &#8211; Saumur\n \nGestÃ¤rkt vom FrÃ¼hstÃ¼cksbuffet werden Sie heute zunÃ¤chst Schloss Azay-le-Rideau besuchen\, ein Kleinod der Renaissancekunst. Danach steht die Besichtigung der berÃ¼hmten GÃ¤rten von Schloss Villandry auf dem Programm. Nahe Saumur\, mit ihren in Kalkstein gehauenen HÃ¶hlenbehausungen\, folgt am Nachmittag die Besichtigung einer\, der fÃ¼r die Region so bekannten\, Champignonzuchten. Abendessen im hotelnahen Restaurant. \n  \n4. Tag:Â  Schloss Chambord &#8211; Bischofsstadt Blois &#8211; Schloss Chaumont-sur-Loire\n \nFrÃ¼hstÃ¼ck im Hotel und anschlieÃŸend Fahrt am Vormittag zum Schloss Chambord\, dem grÃ¶ÃŸten und majestÃ¤tischsten Schloss der Loire. Nach der Besichtigung geht es weiter zur Bischofsstadt Blois mit ihrem prÃ¤chtigen KÃ¶nigsschloss und weiter zum Schloss Chaumont-sur-Loire\, das am hÃ¶chst gelegenen Schloss der Region. Abendessen im hotelnahen Restaurant. \n  \n5. Tag:Â  Amboise & Weinverkostung\n \nHeute besichtigen Sie das malerische StÃ¤dtchen Amboise\, das von seinem prÃ¤chtigen Schloss aus dem 16. Jh. Ã¼berragt wird. Am Nachmittag begeben Sie sich auf die Spuren von Leonardo da Vinci auf dem Schloss Clos LucÃ©\, seinem ehemaligen Wohnhaus. Zum Abschluss geht es zu einer Weinprobe in einem Weingut an der Loire. Am Abend erwartet Sie dann ein schÃ¶nes SpezialitÃ¤ten Essen in einem typischen Felsenrestaurant. \n  \n6. Tag:Â  RÃ¼ckreise \nMit unvergesslichen EindrÃ¼cken heiÃŸt es heute leider Abschied nehmen vom Loiretal. \nÂ 
URL:https://fichtenkamm.de/reise/zauberhafte-loire/
CATEGORIES:Exclusivreise,Genuss- & Erlebnisreisen,StÃ¤dtereisen
ATTACH;FMTTYPE=image/jpeg:https://fichtenkamm.de/wp-content/uploads/2025/03/101Chenonceau.jpg
END:VEVENT
END:VCALENDAR