BEGIN:VCALENDAR
VERSION:2.0
PRODID:-//Fichtenkamm Reisen - ECPv5.12.3//NONSGML v1.0//EN
CALSCALE:GREGORIAN
METHOD:PUBLISH
X-WR-CALNAME:Fichtenkamm Reisen
X-ORIGINAL-URL:https://fichtenkamm.de
X-WR-CALDESC:Veranstaltungen fÃ¼r Fichtenkamm Reisen
BEGIN:VTIMEZONE
TZID:Europe/Berlin
BEGIN:DAYLIGHT
TZOFFSETFROM:+0100
TZOFFSETTO:+0200
TZNAME:CEST
DTSTART:20250330T010000
END:DAYLIGHT
BEGIN:STANDARD
TZOFFSETFROM:+0200
TZOFFSETTO:+0100
TZNAME:CET
DTSTART:20251026T010000
END:STANDARD
END:VTIMEZONE
BEGIN:VEVENT
DTSTART;VALUE=DATE:20250704
DTEND;VALUE=DATE:20250709
DTSTAMP:20260422T101249
CREATED:20250124T170659Z
LAST-MODIFIED:20250124T170659Z
UID:15327-1751587200-1752019199@fichtenkamm.de
SUMMARY:WildschÃ¶nau im Herzen Tirols
DESCRIPTION:Die Traditionen und Besonderheiten des Hochtales der WildschÃ¶nau machen diese zu einem echten StÃ¼ck Tirol. Hier\, im Herzen der KitzbÃ¼heler Berge liegt alles\, was Sie entdecken wollen\, zum Greifen nah. Die Gipfel erreichen Sie mÃ¼helos mit zwei Gondelbahnen und belohnen mit einer atemberaubenden Aussicht. Das herrliche Naturparadies bietet ein mehr als 300 Kilometer langes Wegenetz und wird bei Ihnen bewegende Erinnerungen hinterlassen. Ein Ausflug in die historische Festungsstadt Kufstein ist natÃ¼rlich auch dabei. Ob Sie nun wandern mÃ¶chten oder einfach nur die Seele baumeln lassen wollen&#8230;bei dieser Reise ist dies alles mÃ¶glich! \n  \n1. Tag: Anreise \nAnreise zu Ihrem familiengefÃ¼hrten 4*-WohlfÃ¼hlhotel in Oberau. Nach dem Check-In erwartet Sie ein Willkommensdrink mit anschlieÃŸendem Abendessen. \n  \n2. Tag: Achensee \nFreuen Sie sich auf eine Rundfahrt mit Reiseleitung an den Achensee. Von Jenbach aus geht es mit der Dampf-Zahnradbahn nach Pertisau am Achensee. Hier angekommen steht Ihnen Zeit zur freien VerfÃ¼gung. Danach geht es zur herrlich gelegenen Gramaialm. Eingebettet in eiÂ­Â­Â­Â­ne traumhafte Naturkulisse und von der atemberaubenden Bergwelt des Naturschutzgebiets Alpenpark KarwenÂ­del umgeben. \n  \n3. Tag: Wilder Kaiser\n \nIhr Reiseleiter begleitet Sie heute bei der Rundfahrt am Walchsee vorbei nach KÃ¶ssen\, wo Sie eine typische Latschenkieferbrennerei besuchen werden. Danach geht es durch die wunderbare Heimat des Bergdoktors Ã¼ber Ellmau â€“ Going wieder zurÃ¼ck zum Hotel. \n  \n4. Tag: Kufstein\n \nHeute steht eine Rundfahrt entlang des Kaisergebirges bis nach Kufstein auf dem Programm. In Kufstein haben Sie nach dem gefÃ¼hrten Stadtrundgang Zeit zur freien VerfÃ¼gung\, bevor es durch die WildschÃ¶nau bis nach Auffach weitergeht. Bei der Fahrt zur SchÃ¶nanger Alm erÃ¶ffnen sich ganz neue Perspektiven der Umgebung. \n  \n5. Tag: RÃ¼ckreise \nLeider sind die Urlaubstage schon wieder vorbei und es heiÃŸt Abschied nehmen.
URL:https://fichtenkamm.de/reise/wildschoenau-im-herzen-tirols-2/
CATEGORIES:Genuss- & Erlebnisreisen,StÃ¤dtereisen
ATTACH;FMTTYPE=image/jpeg:https://fichtenkamm.de/wp-content/uploads/2024/04/3AdobeStock_112415151_Wilder-Kaiser_KitzbuÌˆhel.jpg
END:VEVENT
END:VCALENDAR