BEGIN:VCALENDAR
VERSION:2.0
PRODID:-//Fichtenkamm Reisen - ECPv5.12.3//NONSGML v1.0//EN
CALSCALE:GREGORIAN
METHOD:PUBLISH
X-WR-CALNAME:Fichtenkamm Reisen
X-ORIGINAL-URL:https://fichtenkamm.de
X-WR-CALDESC:Veranstaltungen für Fichtenkamm Reisen
BEGIN:VTIMEZONE
TZID:Europe/Berlin
BEGIN:DAYLIGHT
TZOFFSETFROM:+0100
TZOFFSETTO:+0200
TZNAME:CEST
DTSTART:20240331T010000
END:DAYLIGHT
BEGIN:STANDARD
TZOFFSETFROM:+0200
TZOFFSETTO:+0100
TZNAME:CET
DTSTART:20241027T010000
END:STANDARD
END:VTIMEZONE
BEGIN:VEVENT
DTSTART;VALUE=DATE:20240706
DTEND;VALUE=DATE:20240707
DTSTAMP:20260422T222536
CREATED:20240607T075933Z
LAST-MODIFIED:20240607T075933Z
UID:15123-1720224000-1720310399@fichtenkamm.de
SUMMARY:Weltgrößter Kaltwassergeysir
DESCRIPTION:Im Geysir-Zentrum beginnt die faszinierende Reise „unter die Erde“. Danach genießen Sie eine Schifffahrt auf dem Rhein zum höchsten Kaltwassergeysir der Welt. Anschließend Bummel durch die hübsche Bäckerjungenstadt.
URL:https://fichtenkamm.de/reise/weltgroesster-kaltwassergeysir/
CATEGORIES:Tagesreisen
ATTACH;FMTTYPE=image/jpeg:https://fichtenkamm.de/wp-content/uploads/2021/01/84AndernachPanorama-2.jpg
END:VEVENT
END:VCALENDAR