BEGIN:VCALENDAR
VERSION:2.0
PRODID:-//Fichtenkamm Reisen - ECPv5.12.3//NONSGML v1.0//EN
CALSCALE:GREGORIAN
METHOD:PUBLISH
X-WR-CALNAME:Fichtenkamm Reisen
X-ORIGINAL-URL:https://fichtenkamm.de
X-WR-CALDESC:Veranstaltungen für Fichtenkamm Reisen
BEGIN:VTIMEZONE
TZID:Europe/Berlin
BEGIN:DAYLIGHT
TZOFFSETFROM:+0100
TZOFFSETTO:+0200
TZNAME:CEST
DTSTART:20240331T010000
END:DAYLIGHT
BEGIN:STANDARD
TZOFFSETFROM:+0200
TZOFFSETTO:+0100
TZNAME:CET
DTSTART:20241027T010000
END:STANDARD
END:VTIMEZONE
BEGIN:VEVENT
DTSTART;VALUE=DATE:20241206
DTEND;VALUE=DATE:20241207
DTSTAMP:20260422T165105
CREATED:20240924T141831Z
LAST-MODIFIED:20240924T141831Z
UID:15142-1733443200-1733529599@fichtenkamm.de
SUMMARY:Weihnachtsmarkt in Würzburg
DESCRIPTION:Glänzende Lichter\, der Duft von Glühwein und Lebkuchen umweht den Weihnachtsmarkt und der Marktplatz bietet eine stimmungsvolle Kulisse für das weihnachtliche Spektakel. \nZahlreiche Händler zaubern ein geschmackvolles Angebot von Kunstgewerbe\, Handwerkskunst bis hin zu süßen Leckereien und winterlichen Genüssen. All das macht diesen Markt zu etwas ganz Besonderem.
URL:https://fichtenkamm.de/reise/weihnachtsmarkt-in-wuerzburg/
CATEGORIES:Tagesreisen,Weihnachtsmärkte
ATTACH;FMTTYPE=image/jpeg:https://fichtenkamm.de/wp-content/uploads/2021/09/3zuoqi-liu-f1PR3f-v3fA-unsplash.jpg
END:VEVENT
END:VCALENDAR