BEGIN:VCALENDAR
VERSION:2.0
PRODID:-//Fichtenkamm Reisen - ECPv5.12.3//NONSGML v1.0//EN
CALSCALE:GREGORIAN
METHOD:PUBLISH
X-WR-CALNAME:Fichtenkamm Reisen
X-ORIGINAL-URL:https://fichtenkamm.de
X-WR-CALDESC:Veranstaltungen für Fichtenkamm Reisen
BEGIN:VTIMEZONE
TZID:Europe/Berlin
BEGIN:DAYLIGHT
TZOFFSETFROM:+0100
TZOFFSETTO:+0200
TZNAME:CEST
DTSTART:20250330T010000
END:DAYLIGHT
BEGIN:STANDARD
TZOFFSETFROM:+0200
TZOFFSETTO:+0100
TZNAME:CET
DTSTART:20251026T010000
END:STANDARD
END:VTIMEZONE
BEGIN:VEVENT
DTSTART;VALUE=DATE:20251206
DTEND;VALUE=DATE:20251207
DTSTAMP:20260421T215511
CREATED:20250902T092043Z
LAST-MODIFIED:20250902T092043Z
UID:16099-1764979200-1765065599@fichtenkamm.de
SUMMARY:Weihnachtsmagie in Colmar
DESCRIPTION:Verbringen Sie die magische Weihnachtszeit in Colmar an der Elsässer Weinstraße und genießen Sie kulinarische Höhepunkte. Der Weihnachtsmarkt im malerischen Colmar entführt Sie in eine magische Weihnachtswelt. Hier kommen Sie aus dem Staunen gar nicht mehr heraus!
URL:https://fichtenkamm.de/reise/weihnachtsmagie-in-colmar/
CATEGORIES:Tagesreisen,Weihnachtsmärkte
ATTACH;FMTTYPE=image/jpeg:https://fichtenkamm.de/wp-content/uploads/2020/02/Weihnachtsmaerkte_-79_Tourismus_-_Events_Ludwigsburg_Benjamin_Stollenberg-Ludwigsburger_Barock-Weihnachtsmarkt_-11-.jpg
END:VEVENT
END:VCALENDAR