BEGIN:VCALENDAR
VERSION:2.0
PRODID:-//Fichtenkamm Reisen - ECPv5.12.3//NONSGML v1.0//EN
CALSCALE:GREGORIAN
METHOD:PUBLISH
X-WR-CALNAME:Fichtenkamm Reisen
X-ORIGINAL-URL:https://fichtenkamm.de
X-WR-CALDESC:Veranstaltungen für Fichtenkamm Reisen
BEGIN:VTIMEZONE
TZID:Europe/Berlin
BEGIN:DAYLIGHT
TZOFFSETFROM:+0100
TZOFFSETTO:+0200
TZNAME:CEST
DTSTART:20250330T010000
END:DAYLIGHT
BEGIN:STANDARD
TZOFFSETFROM:+0200
TZOFFSETTO:+0100
TZNAME:CET
DTSTART:20251026T010000
END:STANDARD
END:VTIMEZONE
BEGIN:VEVENT
DTSTART;VALUE=DATE:20251003
DTEND;VALUE=DATE:20251004
DTSTAMP:20260422T034710
CREATED:20250902T094709Z
LAST-MODIFIED:20250902T094709Z
UID:16117-1759449600-1759535999@fichtenkamm.de
SUMMARY:Vier-Burgen-Fahrt
DESCRIPTION:Kommen Sie mit zu einer wunderschönen Schifffahrt auf dem Neckar entlang der berühmten Burgenstraße bis nach Neckarsteinach. Danach geht es weiter ins malerische Bad Wimpfen.
URL:https://fichtenkamm.de/reise/vier-burgen-fahrt/
CATEGORIES:Tagesreisen
ATTACH;FMTTYPE=image/jpeg:https://fichtenkamm.de/wp-content/uploads/2024/04/5IMG_8230.jpg
END:VEVENT
END:VCALENDAR