BEGIN:VCALENDAR
VERSION:2.0
PRODID:-//Fichtenkamm Reisen - ECPv5.12.3//NONSGML v1.0//EN
CALSCALE:GREGORIAN
METHOD:PUBLISH
X-WR-CALNAME:Fichtenkamm Reisen
X-ORIGINAL-URL:https://fichtenkamm.de
X-WR-CALDESC:Veranstaltungen fÃ¼r Fichtenkamm Reisen
BEGIN:VTIMEZONE
TZID:Europe/Berlin
BEGIN:DAYLIGHT
TZOFFSETFROM:+0100
TZOFFSETTO:+0200
TZNAME:CEST
DTSTART:20250330T010000
END:DAYLIGHT
BEGIN:STANDARD
TZOFFSETFROM:+0200
TZOFFSETTO:+0100
TZNAME:CET
DTSTART:20251026T010000
END:STANDARD
END:VTIMEZONE
BEGIN:VEVENT
DTSTART;VALUE=DATE:20250528
DTEND;VALUE=DATE:20250602
DTSTAMP:20260422T104237
CREATED:20250102T150403Z
LAST-MODIFIED:20250115T162611Z
UID:15243-1748390400-1748822399@fichtenkamm.de
SUMMARY:Urlaubstage im Salzburger Land
DESCRIPTION:Die Vielfalt an Bergen\, kristallklaren Seen und idyllische DÃ¶rfer machen das Salzburger Land so abwechslungsreich und bezaubernd. Atmen Sie die frische Bergluft ein\, spÃ¼ren Sie das saftige Gras unter Ihren FÃ¼ÃŸen und lauschen Sie den meditativen KlÃ¤ngen der GebirgsflÃ¼sse â€“ so fÃ¼hlt sich der FrÃ¼hling im Lammertal an! Die einmalige Naturlandschaft macht den Reiz dieser faszinierenden Bergwelt aus. Eine traumhafte Umgebung gepaart mit leckerem Essen und vielen Angeboten zum VerwÃ¶hnen Ihres KÃ¶rpers und Ihrer Seele\, lÃ¤sst dies zu einer WohlfÃ¼hlreise werden.  \n1. Tag: Anreise \nAnreise Ã¼ber MÃ¼nchen â€“ Salzburg â€“ nach Abtenau im LamÂ­Â­Â­Â­mertal. Hier heiÃŸt Sie das schÃ¶ne 4*-Hotel Post herzlich willkomÂ­men. Nach dem Check-In und Zimmerbezug dÃ¼rfen Sie sich auf ein gutes MenÃ¼ am Abend freuen. \n2. Tag:Â  Filzmoos \nGenieÃŸen Sie einen schÃ¶nen Ausflug in die Dachsteinregion nach Filzmoos. Hier mÃ¶chten wir Sie auf der wunderbar gelegenen Unterhofalm zu einer zÃ¼nftigen Jause einladen. Von hier aus bieten sich auch einige WanÂ­derÂ­mÃ¶gÂ­lichkeiten unterhalb der BiÂ­Â­Â­schofsÂ­mÃ¼tze mit eindrucksvollem PaÂ­Â­norama. \n3. Tag:Â  Wolfgangsee \nHeute geht es mit Ihrem Reiseleiter zur schÃ¶nen Rundfahrt durch das Salzkammergut. Am Wolfgangsee dÃ¼rfen Sie nicht nur eine gemÃ¼tliche Schifffahrt genieÃŸen\, sondern auch St. Gilgen\, die Heimat von Mozarts Mutter\, bestaunen. NatÃ¼rlich darf hier auch der bekannte Ort St. Wolfgang mit seinem â€žWeiÃŸen RÃ¶sslâ€œ nicht fehlen. Ein Besuch in Bad Ischl\, die ehemalige Kaiserresidenz von Sissy und Franz Josef\, lÃ¤dt ebenfalls zu einem Halt ein. \n4. Tag:Â  HochkÃ¶nig \nDas majestÃ¤tische Bergmassiv des HochkÃ¶nigs erwartet Sie heute. GenieÃŸen Sie einen atemberaubenden Ausblick Ã¼ber das gesamte Lammertal auf einer HÃ¶he von ca. 2.900 m. Gelegenheit zu einer kleinen Wanderung sowie zur Einkehr im herrlichen Arthurhaus. \n5. Tag:Â  RÃ¼ckreise \nNach dem FrÃ¼hstÃ¼ck heiÃŸt es schon wieder Abschied nehmen von Abtenau und dem Salzburger Land. \n 
URL:https://fichtenkamm.de/reise/urlaubstage-im-salzburger-land-2/
CATEGORIES:Genuss- & Erlebnisreisen,Urlaubsreisen
ATTACH;FMTTYPE=image/jpeg:https://fichtenkamm.de/wp-content/uploads/2022/02/5DSC00189.jpg
END:VEVENT
END:VCALENDAR