BEGIN:VCALENDAR
VERSION:2.0
PRODID:-//Fichtenkamm Reisen - ECPv5.12.3//NONSGML v1.0//EN
CALSCALE:GREGORIAN
METHOD:PUBLISH
X-WR-CALNAME:Fichtenkamm Reisen
X-ORIGINAL-URL:https://fichtenkamm.de
X-WR-CALDESC:Veranstaltungen fÃ¼r Fichtenkamm Reisen
BEGIN:VTIMEZONE
TZID:Europe/Berlin
BEGIN:DAYLIGHT
TZOFFSETFROM:+0100
TZOFFSETTO:+0200
TZNAME:CEST
DTSTART:20240331T010000
END:DAYLIGHT
BEGIN:STANDARD
TZOFFSETFROM:+0200
TZOFFSETTO:+0100
TZNAME:CET
DTSTART:20241027T010000
END:STANDARD
END:VTIMEZONE
BEGIN:VEVENT
DTSTART;VALUE=DATE:20240717
DTEND;VALUE=DATE:20240722
DTSTAMP:20260422T222752
CREATED:20240119T181834Z
LAST-MODIFIED:20240208T171907Z
UID:14385-1721174400-1721606399@fichtenkamm.de
SUMMARY:Urlaub in Maria Alm - Salzburg
DESCRIPTION:Duftende BergwÃ¤lder\, rauschende BÃ¤che\, schroffe FelshÃ¤nge\, saftig-grÃ¼ne Almen: Verbringen Sie Ihren Urlaub in Maria Alm und lassen Sie die alpine Natur des Pinzgaus ganz auf sich wirken! Der HochkÃ¶nig und das Steinerne Meer lassen Sie Ã¼ber die Faszination der Landschaft staunen. Auch Salzburg ist einzigartig â€“ und das in jeglicher Hinsicht. Wer einmal in den Zauber der weltberÃ¼hmten Mozartstadt eintaucht\, kann sich diesem nicht mehr entziehen. Doch auch fÃ¼r Ihr leibliches Wohl ist gesorgt. Das ****Hotel inmitten des Zentrums\, lÃ¤sst keine WÃ¼nsche offen. Hier werden Sie sich wohlfÃ¼hlen! \n  \n 1. Tag:Â  Anreise \nAnreise ins Herz des Pinzgaus ins Alpendorf Maria Alm zu Ihrem 4* Hotel. Hier werden Sie von Familie Lohninger mit einem Schnapserl willkommen geheiÃŸen. \n  \n 2. Tag:Â  HochkÃ¶nig \nHeute starten Sie mit Ihrem Reiseleiter eine beeindruckende Rundfahrt zum HochkÃ¶nig. Es geht Ã¼ber Dienten weiter nach St. Johann im Pongau bis hin zum 1500 m hoch gelegenen Arthurhaus. Gegen Nachmittag haben Sie die MÃ¶glichkeit mit der Seilbahn auf die Steinbock Alm zu fahren und dort eine Kaffeepause einzulegen. \n  \n 3. Tag:Â  Salzburg \nSalzburg erwartet Sie. Sehen Sie selbst\, was Salzburg so unverkennbar macht: Die Silhouette der Festung Hohensalzburg\, die zum UNESCO Weltkulturerbe zÃ¤hlt. Bei einer StadtfÃ¼hrung tauchen Sie ein in die Geschichte und lernen die Stadt von ihrer charmanten und historischen Seite kennen! Danach steht Zeit zur freien VerfÃ¼gung. \n  \n 4. Tag:Â  Maria Alm\n \nBegleiten uns bei einem gefÃ¼hrten Rundgang durch Ihren Urlaubsort mit Besichtigung der Kirche. Am Nachmittag laden wir Sie zu Kaffee und Kuchen im Hotel ein. Wie wÃ¤re es danach mit einer Auffahrt mit der Sonnbergbahn zu einer AlmhÃ¼tte hoch oben Ã¼ber Maria Alm. \n  \n5. Tag:Â  RÃ¼ckreise \nNach erholsamen Tagen geht es wieder zurÃ¼ck in die Heimat. \n 
URL:https://fichtenkamm.de/reise/urlaub-in-maria-alm-salzburg/
CATEGORIES:Genuss- & Erlebnisreisen
ATTACH;FMTTYPE=image/jpeg:https://fichtenkamm.de/wp-content/uploads/2020/01/MariaAlm_Hochkoenig_-5-DSC00189.jpg
END:VEVENT
END:VCALENDAR