BEGIN:VCALENDAR
VERSION:2.0
PRODID:-//Fichtenkamm Reisen - ECPv5.12.3//NONSGML v1.0//EN
CALSCALE:GREGORIAN
METHOD:PUBLISH
X-WR-CALNAME:Fichtenkamm Reisen
X-ORIGINAL-URL:https://fichtenkamm.de
X-WR-CALDESC:Veranstaltungen fÃ¼r Fichtenkamm Reisen
BEGIN:VTIMEZONE
TZID:Europe/Berlin
BEGIN:DAYLIGHT
TZOFFSETFROM:+0100
TZOFFSETTO:+0200
TZNAME:CEST
DTSTART:20240331T010000
END:DAYLIGHT
BEGIN:STANDARD
TZOFFSETFROM:+0200
TZOFFSETTO:+0100
TZNAME:CET
DTSTART:20241027T010000
END:STANDARD
END:VTIMEZONE
BEGIN:VEVENT
DTSTART;VALUE=DATE:20241106
DTEND;VALUE=DATE:20241111
DTSTAMP:20260422T181936
CREATED:20240119T174305Z
LAST-MODIFIED:20240216T155645Z
UID:14405-1730851200-1731283199@fichtenkamm.de
SUMMARY:TrÃ¼ffelmesse in Alba
DESCRIPTION:Jedes Jahr im Herbst verwandelt sich die Innenstadt von Alba zu einem wahren Paradies fÃ¼r TrÃ¼ffelliebhaber. Alba wird zum TrÃ¼ffelzentrum Europas und lockt Feinschmecker und Gastronomen aus aller Welt an. Das verfÃ¼hrerische Piemont\, das Land am â€žFuÃŸe der Bergeâ€œ beeindruckt durch seine landschaftlichen GegensÃ¤tze. Hohe Berge\, die Weinanbaugebiete in den HÃ¼geln von Monferrato und Langhe\, werden Sie begeistern. Eine kulinarische Reise in das Land der Wein- und Gourmetfreunde mit Besuch des kÃ¶niglichen Turins erwartet Sie. \n  \n  \n1. Tag:Â Â Â  Anreise\n \nAnreise durch die Schweiz ins Herzen des Piemont zu Ihrem Hotel. \n  \n2. Tag:Â Â Â  Asti & Monferrato\n \nDie heutige Fahrt geht nach Asti. Um die Magie dieses Orts zu spÃ¼ren\, genÃ¼gt ein Spaziergang durch die Altstadt. Wegen der zahlreichen aufragenden GeschlechtertÃ¼rme wird Asti auch das â€žSan Gimignano des Piemonts&#8220; genannt. Danach entdecken Sie das HÃ¼gelland des Monferrato. Das Zentrum von Casale Monferrato rund um den Dom lÃ¤dt zu einem Spaziergang ein. Nachmittags erwartet Sie eine Weinprobe mit Imbiss. \n  \n3. Tag:Â  Turin\n \nHeute steht die Stadtbesichtigung von Turin auf dem Programm. Bestaunen Sie den Palazzo Reale\, Palazzo Madama\, sowie San Lorenzo und gewinnen einen ersten Eindruck von der Herrlichkeit der Stadt. AnschlieÃŸend steht noch Zeit zur freien VerfÃ¼gung\, um zu FuÃŸ durch die lebhafte\, barocke Altstadt zu bummeln. \n  \n4. Tag:Â  Alba & TrÃ¼ffelmesse\n \nAm nÃ¶rdlichen Rand dieser bezaubernden Landschaft der Langhe liegt Alba\, die Stadt der weiÃŸen TrÃ¼ffel. Im historischen Zentrum\, mit Rathaus und Dom\, erwartet Sie heute die TrÃ¼ffelmesse. HÃ¤ndler und TrÃ¼ffelsucher aus der Region bieten dort die begehrte weiÃŸe Knolle an. Zahlreiche Show-Cooking-Events und Verkostungen von TrÃ¼ffelgerichten sowie ein buntes Rahmenprogramm werden geboten. An zahlreichen StÃ¤nden werden Weine sowie regionale SpezialitÃ¤ten verkauft und Sie werden dort zwei der Weine verkosten. \n  \n5. Tag:Â  RÃ¼ckreise \nMit unvergesslichen EindrÃ¼cken treten Sie die Heimreise an.
URL:https://fichtenkamm.de/reise/trueffelmesse-in-alba/
CATEGORIES:Genuss- & Erlebnisreisen,StÃ¤dtereisen
ATTACH;FMTTYPE=image/jpeg:https://fichtenkamm.de/wp-content/uploads/2020/01/Piemont_-2-Langhe_bei_Barolo.jpg
END:VEVENT
END:VCALENDAR