BEGIN:VCALENDAR
VERSION:2.0
PRODID:-//Fichtenkamm Reisen - ECPv5.12.3//NONSGML v1.0//EN
CALSCALE:GREGORIAN
METHOD:PUBLISH
X-WR-CALNAME:Fichtenkamm Reisen
X-ORIGINAL-URL:https://fichtenkamm.de
X-WR-CALDESC:Veranstaltungen für Fichtenkamm Reisen
BEGIN:VTIMEZONE
TZID:Europe/Berlin
BEGIN:DAYLIGHT
TZOFFSETFROM:+0100
TZOFFSETTO:+0200
TZNAME:CEST
DTSTART:20230326T010000
END:DAYLIGHT
BEGIN:STANDARD
TZOFFSETFROM:+0200
TZOFFSETTO:+0100
TZNAME:CET
DTSTART:20231029T010000
END:STANDARD
END:VTIMEZONE
BEGIN:VEVENT
DTSTART;VALUE=DATE:20231229
DTEND;VALUE=DATE:20231230
DTSTAMP:20260423T051859
CREATED:20230316T174919Z
LAST-MODIFIED:20230316T174919Z
UID:14037-1703808000-1703894399@fichtenkamm.de
SUMMARY:Triberger Weihnachtszauber
DESCRIPTION:Zwischen den Jahren lädt der Triberger Weihnachtszauber zu einem einzigarten Weihnachtsspektakel ein. Ein großartiges Wunderland im Burggarten gepaart in einem sensationellen Ambiente und einem abwechslungsreichen Showprogramm wird Sie verzaubern. Erleben Sie diese romantische Weihnachtskulisse mit der ganzen Familie.
URL:https://fichtenkamm.de/reise/triberger-weihnachtszauber/
CATEGORIES:Tagesreisen,Weihnachtsmärkte
ATTACH;FMTTYPE=image/jpeg:https://fichtenkamm.de/wp-content/uploads/2023/03/Triberger-Weihnachtsmarkt-scaled.jpg
END:VEVENT
END:VCALENDAR