BEGIN:VCALENDAR
VERSION:2.0
PRODID:-//Fichtenkamm Reisen - ECPv5.12.3//NONSGML v1.0//EN
CALSCALE:GREGORIAN
METHOD:PUBLISH
X-WR-CALNAME:Fichtenkamm Reisen
X-ORIGINAL-URL:https://fichtenkamm.de
X-WR-CALDESC:Veranstaltungen für Fichtenkamm Reisen
BEGIN:VTIMEZONE
TZID:Europe/Berlin
BEGIN:DAYLIGHT
TZOFFSETFROM:+0100
TZOFFSETTO:+0200
TZNAME:CEST
DTSTART:20220327T010000
END:DAYLIGHT
BEGIN:STANDARD
TZOFFSETFROM:+0200
TZOFFSETTO:+0100
TZNAME:CET
DTSTART:20221030T010000
END:STANDARD
END:VTIMEZONE
BEGIN:VEVENT
DTSTART;VALUE=DATE:20221210
DTEND;VALUE=DATE:20221211
DTSTAMP:20260423T193947
CREATED:20221121T084728Z
LAST-MODIFIED:20221121T084728Z
UID:13471-1670630400-1670716799@fichtenkamm.de
SUMMARY:Traumhafte Ravennaschlucht
DESCRIPTION:In einer heimeligen Atmosphäre erwarten Sie die würzigen Düfte und einzigartigen Geschmäcker des Weihnachtsmarktes der Ravennaschlucht bei Breitnau. Steile\, bewaldete Hügel und das 40 m hohe Eisenbahn-Viadukt der Höllentalbahn rahmen diesen Markt ein. Im Anschluß geht es weiter nach Freiburg\, wo Sie den schönen Weihnachtsmarkt in Freiburg besuchen werden. \nInkl. Eintritt Ravennaschlucht!
URL:https://fichtenkamm.de/reise/traumhafte-ravennaschlucht-2/
CATEGORIES:Tagesreisen,Weihnachtsmärkte
ATTACH;FMTTYPE=image/jpeg:https://fichtenkamm.de/wp-content/uploads/2020/02/Weihnachtsmaerkte_-3-AdobeStock.jpg
END:VEVENT
END:VCALENDAR