BEGIN:VCALENDAR
VERSION:2.0
PRODID:-//Fichtenkamm Reisen - ECPv5.12.3//NONSGML v1.0//EN
CALSCALE:GREGORIAN
METHOD:PUBLISH
X-WR-CALNAME:Fichtenkamm Reisen
X-ORIGINAL-URL:https://fichtenkamm.de
X-WR-CALDESC:Veranstaltungen für Fichtenkamm Reisen
BEGIN:VTIMEZONE
TZID:Europe/Berlin
BEGIN:DAYLIGHT
TZOFFSETFROM:+0100
TZOFFSETTO:+0200
TZNAME:CEST
DTSTART:20250330T010000
END:DAYLIGHT
BEGIN:STANDARD
TZOFFSETFROM:+0200
TZOFFSETTO:+0100
TZNAME:CET
DTSTART:20251026T010000
END:STANDARD
END:VTIMEZONE
BEGIN:VEVENT
DTSTART;VALUE=DATE:20251219
DTEND;VALUE=DATE:20251220
DTSTAMP:20260422T005815
CREATED:20250902T093506Z
LAST-MODIFIED:20250902T093506Z
UID:16113-1766102400-1766188799@fichtenkamm.de
SUMMARY:Traben-Trarbach
DESCRIPTION:Besuchen Sie den unterirdischen Weihnachtsmarkt in den romantisch beleuchteten ehemaligen Weinkellergewölben. Kunsthandwerker und Aussteller von Mosel\, Eifel\, Hunsrück und Rhein präsentieren Ihnen hier in weihnachtlichem Ambiente hochwertige Dekoartikel\, Geschenkideen\, kulinarische Spezialitäten\, Produkte rund um Wein und Wellness\, Antikes sowie kreatives Mode- und Schmuckdesign aus der Region.
URL:https://fichtenkamm.de/reise/traben-trarbach-3/
CATEGORIES:Tagesreisen,Weihnachtsmärkte
ATTACH;FMTTYPE=image/jpeg:https://fichtenkamm.de/wp-content/uploads/2020/02/Weihnachtsmaerkte_-300-_WEI_Stimmungsmotiv_01.jpg
END:VEVENT
END:VCALENDAR