BEGIN:VCALENDAR
VERSION:2.0
PRODID:-//Fichtenkamm Reisen - ECPv5.12.3//NONSGML v1.0//EN
CALSCALE:GREGORIAN
METHOD:PUBLISH
X-WR-CALNAME:Fichtenkamm Reisen
X-ORIGINAL-URL:https://fichtenkamm.de
X-WR-CALDESC:Veranstaltungen für Fichtenkamm Reisen
BEGIN:VTIMEZONE
TZID:Europe/Berlin
BEGIN:DAYLIGHT
TZOFFSETFROM:+0100
TZOFFSETTO:+0200
TZNAME:CEST
DTSTART:20250330T010000
END:DAYLIGHT
BEGIN:STANDARD
TZOFFSETFROM:+0200
TZOFFSETTO:+0100
TZNAME:CET
DTSTART:20251026T010000
END:STANDARD
END:VTIMEZONE
BEGIN:VEVENT
DTSTART;VALUE=DATE:20251213
DTEND;VALUE=DATE:20251214
DTSTAMP:20260422T005112
CREATED:20250902T093010Z
LAST-MODIFIED:20250902T093010Z
UID:16105-1765584000-1765670399@fichtenkamm.de
SUMMARY:Straßburger "Christkindlmarkt"
DESCRIPTION:Gönnen Sie sich einen schönen Adventstag im Elsass. Der idyllische Straßburger Weihnachtsmarkt\, der im elsässischen Dialekt „Christkindelsmärik“genannt wird\, zählt zu den ältesten Weihnachtsmärkten Europas. Schon seit 1570 lässt er die Herzen einer ganzen Stadt höherschlagen.
URL:https://fichtenkamm.de/reise/strassburger-christkindlmarkt-3/
CATEGORIES:Tagesreisen,Weihnachtsmärkte
ATTACH;FMTTYPE=image/jpeg:https://fichtenkamm.de/wp-content/uploads/2025/07/AdobeStock_390592159.jpg
END:VEVENT
END:VCALENDAR