BEGIN:VCALENDAR
VERSION:2.0
PRODID:-//Fichtenkamm Reisen - ECPv5.12.3//NONSGML v1.0//EN
CALSCALE:GREGORIAN
METHOD:PUBLISH
X-WR-CALNAME:Fichtenkamm Reisen
X-ORIGINAL-URL:https://fichtenkamm.de
X-WR-CALDESC:Veranstaltungen fÃ¼r Fichtenkamm Reisen
BEGIN:VTIMEZONE
TZID:Europe/Berlin
BEGIN:DAYLIGHT
TZOFFSETFROM:+0100
TZOFFSETTO:+0200
TZNAME:CEST
DTSTART:20230326T010000
END:DAYLIGHT
BEGIN:STANDARD
TZOFFSETFROM:+0200
TZOFFSETTO:+0100
TZNAME:CET
DTSTART:20231029T010000
END:STANDARD
END:VTIMEZONE
BEGIN:VEVENT
DTSTART;VALUE=DATE:20231129
DTEND;VALUE=DATE:20231204
DTSTAMP:20260423T065454
CREATED:20230203T182018Z
LAST-MODIFIED:20230215T184043Z
UID:13804-1701216000-1701647999@fichtenkamm.de
SUMMARY:Stimmungsvoller Advent in OberÃ¶sterreich
DESCRIPTION:GÃ¶nnen Sie sich besondere Tage in der Vorweihnachtszeit und begleiten Sie uns ins 4*-Wellnesshotel Dilly in Windischgarsten. Der Luftkurort\, umrahmt von den Haller Mauern befindet sich in 602 Meter HÃ¶he in der Urlaubsregion Pyhrn-Priel. \n  \nWie immer bei unseren beliebten Adventsreisen\, bieten wir Ihnen wieder einige Programm-Highlights. So wird Sie ein Ausflug in die malerische Christkindlstadt Steyr in Weihnachtsstimmung bringen. Hier schalten Sie einen Gang zurÃ¼ck und tauchen ein in die romantische AtmosphÃ¤re der Stadt. Erkunden Sie mit einem StadtfÃ¼hrer die winterliche Altstadt und staunen Sie im 1. Ã¶sterreichischem Weihnachtsmuseum oder verschicken Sie Ihre Weihnachtspost im Postamt â€žChristkindlâ€œ. Ebenso werden Sie die Landeshauptstadt OberÃ¶sterreichs Linz erkunden. Die Donaustadt mit ihrem eindrucksvollen Mariendom\, die grÃ¶ÃŸte Kirche Ã–sterreichs\, ist immer ein Besuch wert. Stimmungsvolle ChristkindlmÃ¤rkte und festliche beleuchtete EinkaufsstraÃŸen machen eine Stippvisite im Advent zum unvergesslichen Erlebnis. \n  \nFreuen Sie sich wieder auf abwechslungsreiche Urlaubstage sowie schÃ¶ne\, gemeinsame Stunden in besinnlicher AtmosphÃ¤re. Ihr Naturpark Resort\, das von der Familie Dilly gefÃ¼hrt wird\, wird Sie rundum verwÃ¶hnen. Damit dies gelingt\, braucht es gemÃ¼tliche Zimmer\, die zum TrÃ¤umen einladen. Eine auÃŸergewÃ¶hnliche KÃ¼che\, die den Geschmack der Region auf die Zunge bringt. Ein groÃŸzÃ¼giger Spa-Bereich\, zu dessen Highlights die Burgtherme mit Salz-Stollen\, Kristallsauna und Eisgrotte zÃ¤hlen\, lÃ¤sst Sie die Zeit vergessen. \n  \nGetreu unserer langjÃ¤hrigen Tradition halten wir wieder einige Ãœberraschungen in unserem Programm fÃ¼r Sie bereit. Lassen Sie sich verzaubern vom winterlichen Charme der Region und stimmen Sie sich auf die weihnachtlichen Tage ein. \n 
URL:https://fichtenkamm.de/reise/stimmungsvoller-advent-in-oberoesterreich/
CATEGORIES:Genuss- & Erlebnisreisen
ATTACH;FMTTYPE=image/jpeg:https://fichtenkamm.de/wp-content/uploads/2021/09/larisa-birta-480403-unsplash.jpg
END:VEVENT
END:VCALENDAR