BEGIN:VCALENDAR
VERSION:2.0
PRODID:-//Fichtenkamm Reisen - ECPv5.12.3//NONSGML v1.0//EN
CALSCALE:GREGORIAN
METHOD:PUBLISH
X-WR-CALNAME:Fichtenkamm Reisen
X-ORIGINAL-URL:https://fichtenkamm.de
X-WR-CALDESC:Veranstaltungen für Fichtenkamm Reisen
BEGIN:VTIMEZONE
TZID:Europe/Berlin
BEGIN:DAYLIGHT
TZOFFSETFROM:+0100
TZOFFSETTO:+0200
TZNAME:CEST
DTSTART:20250330T010000
END:DAYLIGHT
BEGIN:STANDARD
TZOFFSETFROM:+0200
TZOFFSETTO:+0100
TZNAME:CET
DTSTART:20251026T010000
END:STANDARD
END:VTIMEZONE
BEGIN:VEVENT
DTSTART;VALUE=DATE:20251001
DTEND;VALUE=DATE:20251006
DTSTAMP:20260422T042053
CREATED:20250102T165602Z
LAST-MODIFIED:20250102T165602Z
UID:15249-1759276800-1759708799@fichtenkamm.de
SUMMARY:Sonniges Trentino
DESCRIPTION:Genießen Sie das sonnige Trentino. Die wunderschöne Alpenregion rund um das Val di Sole wird Sie mit ihrem besonderen Charme begeistern. Wer schon einmal seinen Urlaub hier im malerischen Trentino verbracht hat\, der weiß\, dass die Ferienregion im Norden Italiens von ganz besonderer Schönheit ist. Ein Ferienparadies\, dessen natürlicher Charme sich von den „bleichen Bergen“\, wie die mächtigen Dolomiten auch genannt werden\, bis an den größten See des Landes\, den Gardasee\, zieht. Bei dieser Reise werden Sie auch die schöne Provinzhauptstadt Trient kennen lernen. \n  \n \n 1. Tag:  Anreise  \nAnreise über Innsbruck – Bozen nach Levico Terme. Nach dem Check-In erwartet Sie ein Abendmenü im Hotel. \n \n 2. Tag:   Trient & Sektkellerei \nHeute geht es in die Hauptstadt des Trentio. Trient hat viel zu bieten: nicht nur einen zauberhaften\, historischen Stadtkern mit dem Kunst- und Kulturviertel San Marino\, sondern auch eine besondere Atmosphäre mit vielen kulinarischen Köstlichkeiten. Nach dem geführten Rundgang werden Sie den berühmten “Trento Doc” verkosten. Der edle Bergschaumwein transportiert den Duft der Trentiner Berge und Seen direkt ins Glas. \n \n 3. Tag:  Rovereto & Kaffeerösterei \nTauchen Sie ein in die bewegende Vergangenheit Italiens und begeben sich dafür in die Kulturhauptstadt Rovereto. Bei einem Rundgang lernen Sie die wichtigsten Sehenswürdigkeiten kennen. Danach gibt es eine Weiterreise für die Sinne. In der Kaffee- und Schaurösterei Bontadi\, wird seit 1790 handwerklich und leidenschaftlich Kaffee hergestellt. Hier erleben Sie die Entwicklung\, wie sich die Herstellung\, die Aromen und der Geschmack über die Jahrhunderte veränderte. Heute öffnet Familie Bontadi ihre Türen und lädt Sie auf eine Espresso-Verkostung ein! Anschließend besuchen Sie die berühmte Brennerei Marzadro\, wo eine Grappakostprobe darf nicht fehlen. \n \n 4. Tag:   Gardasee & Tobolinosee\n \nWunderschöne Panoramablicke und besonders reizvolle landschaftliche Kontraste erwarten Sie heute. Auf der Fahrt passieren Sie beeindruckende Burgen und romantische Seen. Ihr erstes Ziel ist das Wasserschloss Castel Toblino\, malerisch gelegen am Ufer des Toblinosees. Danach geht es weiter nach Riva\, einem charmanten Städtchen am Nordufer des Gardasees. In Riva können Sie die historische Altstadt mit ihren eleganten Plätzen\, beeindruckenden Palazzi und der imposanten Festung Rocca di Riva erkunden. \n \n 6. Tag:  Arrivederci \nLeider heißt es heute wieder Abschied nehmen vom schönen Trentino. \n
URL:https://fichtenkamm.de/reise/sonniges-trentino-2/
CATEGORIES:Genuss- & Erlebnisreisen,Urlaubsreisen
ATTACH;FMTTYPE=image/jpeg:https://fichtenkamm.de/wp-content/uploads/2024/04/5Panorama-4.jpg
END:VEVENT
END:VCALENDAR