BEGIN:VCALENDAR
VERSION:2.0
PRODID:-//Fichtenkamm Reisen - ECPv5.12.3//NONSGML v1.0//EN
CALSCALE:GREGORIAN
METHOD:PUBLISH
X-WR-CALNAME:Fichtenkamm Reisen
X-ORIGINAL-URL:https://fichtenkamm.de
X-WR-CALDESC:Veranstaltungen fÃ¼r Fichtenkamm Reisen
BEGIN:VTIMEZONE
TZID:Europe/Berlin
BEGIN:DAYLIGHT
TZOFFSETFROM:+0100
TZOFFSETTO:+0200
TZNAME:CEST
DTSTART:20220327T010000
END:DAYLIGHT
BEGIN:STANDARD
TZOFFSETFROM:+0200
TZOFFSETTO:+0100
TZNAME:CET
DTSTART:20221030T010000
END:STANDARD
END:VTIMEZONE
BEGIN:VEVENT
DTSTART;VALUE=DATE:20220821
DTEND;VALUE=DATE:20220826
DTSTAMP:20260424T013500
CREATED:20220216T111918Z
LAST-MODIFIED:20220225T102126Z
UID:12402-1661040000-1661471999@fichtenkamm.de
SUMMARY:Sonniger Lago Maggiore
DESCRIPTION:Lernen Sie bei dieser Reise den traumÂ­haften Lago Maggiore vom Kanton Tessin in der Schweiz bis ins Piemont kennen! Das milde\, sÃ¼dlÃ¤ndische Klima und die stellenweise exotische VeÂ­Â­getation ermÃ¶glichen es Ihnen\, eine â€žWeltreiseâ€œ auf kleinem Raum zu erleben. PrÃ¤gend sind die kleinen\, malerischen OrtÂ­Â­Â­schaften mit den alten HÃ¤usern\, die man besonders in den Ortskernen findet\, oder OrÂ­Â­te\, die von luxuriÃ¶sen Bauten geprÃ¤gt sind und das Flair von Reichtum verbreiten. Eine Fahrt zum schÃ¶nen Ortasee\, den kleinsten der oberitalienischen Seen\, darf hierbei natÃ¼rlich nicht fehlen. Diese Reise verspricht ohne Zweifel Entspannung und mediterrane Erholung!  \nTag 1: Anreise Ã¼ber Basel â€“ Luzern â€“ BeÂ­Â­Â­Â­linzona nach Stresa am Lago Maggiore zu Ihrem ****Hotel. Abendessen im Hotel. \nTag 2: Die BorromÃ¤ischen Inseln warten daÂ­rauf\, von Ihnen entdeckt zu werÂ­Â­den. Die Isola Bella\, in Besitz der Familie Borromeo\, beeindruckt durch ihren prunkvollen Palast\, der von einem wunÂ­Â­derschÃ¶nen Garten umgeben ist. Eine ganz andere AtmosphÃ¤re wird Sie auf der Isola Madre erwarten. ZurÃ¼ck in StreÂ­Â­sa\, lÃ¤dt das schÃ¶ne StÃ¤dtchen zum Verweilen ein. \nTag 3: Besuchen Sie heute den malerischen Ortasee. Erkunden Sie die schmucke\, kleine Altstadt von Orta\, San Giulio mit der Basilica di San Giulio aus dem 12. Jahrhundert und geÂ­Â­Â­Â­Â­nieÂ­ÃŸen das besondere Flair. Ganz in der NÃ¤he beÂ­Â­Â­Â­Â­findet sich auch die einzige Insel des Sees\, die Isola San Giulio mit ihrem beÂ­Â­Â­Â­deutsamen Kloster\, welches Sie per Boot erreichen und besichtigen werden. \nTag 4: Der Ausflug fÃ¼hrt Sie heute nach Locarno. Bei einem Stadtrundgang werden Sie die SehenswÃ¼rdigkeiten des Ortes nÃ¤her kennen lernen. Im AnÂ­Â­Â­Â­schluss steht Ihnen auch noch Zeit zur freien VerfÃ¼gung. Vielleicht mÃ¶chten Sie ja die Gelegenheit nutzen\, um mit dem Panoramazug der Centovalli-Bahn durch die malerischen â€žhundert TÃ¤lerâ€œ bis nach Domodossola zu fahren. \nTag 5: Leider heiÃŸt es heute schon wieder Abschied nehmen von Italien. Mit schÃ¶nen Erinnerungen treten Sie die Heimreise an. \n  \nmax. 35 Reiseteilnehmer
URL:https://fichtenkamm.de/reise/sonniger-lago-maggiore-3/
CATEGORIES:Genuss- & Erlebnisreisen,Urlaubsreisen
ATTACH;FMTTYPE=image/jpeg:https://fichtenkamm.de/wp-content/uploads/2021/09/3LagoMaggiore.jpg
END:VEVENT
END:VCALENDAR