BEGIN:VCALENDAR
VERSION:2.0
PRODID:-//Fichtenkamm Reisen - ECPv5.12.3//NONSGML v1.0//EN
CALSCALE:GREGORIAN
METHOD:PUBLISH
X-WR-CALNAME:Fichtenkamm Reisen
X-ORIGINAL-URL:https://fichtenkamm.de
X-WR-CALDESC:Veranstaltungen fÃ¼r Fichtenkamm Reisen
BEGIN:VTIMEZONE
TZID:Europe/Berlin
BEGIN:DAYLIGHT
TZOFFSETFROM:+0100
TZOFFSETTO:+0200
TZNAME:CEST
DTSTART:20220327T010000
END:DAYLIGHT
BEGIN:STANDARD
TZOFFSETFROM:+0200
TZOFFSETTO:+0100
TZNAME:CET
DTSTART:20221030T010000
END:STANDARD
END:VTIMEZONE
BEGIN:VEVENT
DTSTART;VALUE=DATE:20220703
DTEND;VALUE=DATE:20220708
DTSTAMP:20260424T031156
CREATED:20220207T162337Z
LAST-MODIFIED:20220224T103641Z
UID:12426-1656806400-1657238399@fichtenkamm.de
SUMMARY:Sonnenregion MillstÃ¤tter See
DESCRIPTION:Verbringen Sie ein paar erholsame Tage im Luftkurort Seeboden in unserem schÃ¶nen Hotel Moserhof. Am Rande der Nationalparks â€žHohe Tauernâ€œ und â€žKÃ¤rntner Nockbergeâ€œ\, liegt eingebettet in die malerische Gebirgswelt OberkÃ¤rntens Ihr Urlaubsort. Ganz im Zeichen des sinnlichen Naturerlebnisses stehen die See- und BergberÃ¼hrungen rund um den MillstÃ¤tter See\, das Juwel in KÃ¤rnten. Rundfahrten zu den schÃ¶nsten PlÃ¤tzen dieser Region\, wie WÃ¶rthersee oder Ã¼ber die malerische NockalmstraÃŸe dÃ¼rfen bei dieser Reise nicht fehlen. Entspannte Urlaubstage sind hier garantiert\, Ã¼berzeugen Sie sich selbst! \nÂ  \n1. Tag:Â  Anreise nach Seeboden \nAnreise Ã¼ber Ulm â€“ MÃ¼nchen â€“ Kufstein â€“ durch Tirol nach Osttirol â€“ Lienz nach Seeboden am MillstÃ¤tter See. Hier erwartet Sie Ihr gemÃ¼tliches ****Hotel. Nach einem Welcomedrink und einer BegrÃ¼ÃŸung durch den Hotelchef dÃ¼rfen Sie sich auf ein gutes AbendmenÃ¼ freuen. \n  \n2. Tag:Â  MillstÃ¤tter See \nDer Vormittag steht Ihnen nach dem FrÃ¼hstÃ¼cksbuffet zur freien VerfÃ¼gung. Nachmittags laden wir Sie zu einer schÃ¶nen Schifffahrt von Seeboden nach Millstatt ein. Nach einem individuellen Aufenthalt mit Besichtigung der schÃ¶nen Stiftskirche und einer Kaffeepause geht es mit dem Schiff weiter nach DÃ¶briach. Von hier aus RÃ¼ckfahrt zum Hotel mit anschlieÃŸendem Abendessen. \n  \n3. Tag:Â  Velden &#8211; WÃ¶rthersee \nGestÃ¤rkt vom FrÃ¼hstÃ¼cksbuffet kÃ¶nnen Sie sich heute auf eine schÃ¶ne Rundfahrt zum WÃ¶rthersee freuen. Lernen Sie bei einem Rundgang Velden\, den bekanntesten Ort am See mit seiner eindrucksvollen Promenade\, kennen. Ein Besuch in Klagenfurth darf beim heutigen Ausflug natÃ¼rlich auch nicht fehlen. Erleben Sie die pulsierende Altstadt\, die durch ihre italienischen Baumeister geprÃ¤gt wurde. Abendessen im Hotel. \n  \n4. Tag:Â  PanoramastraÃŸe Nockberge \nBei dem heutigen Ausflug kÃ¶nnen Sie auf der PanoramastraÃŸe durch den Nationalpark die herrliche Aussicht bewundern. GenieÃŸen Sie die malerische Welt der Nockberge\, die sicherlich zu den unvergesslichen Urlaubserlebnissen gehÃ¶ren wird. \n  \n5. Tag:Â  RÃ¼ckreise \nNach dem FrÃ¼hstÃ¼ck wird das GepÃ¤ck verladen und mit schÃ¶nen Erinnerung starten Sie zur RÃ¼ckreise. \n  \nmax. 35 Reiseteilnehmer
URL:https://fichtenkamm.de/reise/sonnenregion-millstaetter-see-6/
CATEGORIES:Genuss- & Erlebnisreisen,Urlaubsreisen
ATTACH;FMTTYPE=image/jpeg:https://fichtenkamm.de/wp-content/uploads/2022/02/FranzGERDL-_AAT-GMUEND_MILLSEE-_7943.jpg
END:VEVENT
END:VCALENDAR