BEGIN:VCALENDAR
VERSION:2.0
PRODID:-//Fichtenkamm Reisen - ECPv5.12.3//NONSGML v1.0//EN
CALSCALE:GREGORIAN
METHOD:PUBLISH
X-WR-CALNAME:Fichtenkamm Reisen
X-ORIGINAL-URL:https://fichtenkamm.de
X-WR-CALDESC:Veranstaltungen fÃ¼r Fichtenkamm Reisen
BEGIN:VTIMEZONE
TZID:Europe/Berlin
BEGIN:DAYLIGHT
TZOFFSETFROM:+0100
TZOFFSETTO:+0200
TZNAME:CEST
DTSTART:20250330T010000
END:DAYLIGHT
BEGIN:STANDARD
TZOFFSETFROM:+0200
TZOFFSETTO:+0100
TZNAME:CET
DTSTART:20251026T010000
END:STANDARD
END:VTIMEZONE
BEGIN:VEVENT
DTSTART;VALUE=DATE:20250921
DTEND;VALUE=DATE:20250928
DTSTAMP:20260422T065405
CREATED:20250515T144836Z
LAST-MODIFIED:20250515T144836Z
UID:15858-1758412800-1759017599@fichtenkamm.de
SUMMARY:Sonne tanken auf der Insel Krk
DESCRIPTION:Mediterrane DÃ¼fte\, landschaftliche SchÃ¶nheit und Ã¼berdurchschnittlich viele Sonnenstunden machen die Insel Krk zum Urlaubsparadies. Malerische Orte\, traumhafte KiesstrÃ¤nde und freundliche Menschen sind nur einige der GrÃ¼nde\, sich fÃ¼r Kroatien als Reiseziel zu entscheiden. Die Insel liegt im Norden der kroatischen Adria. GenieÃŸen Sie schÃ¶ne Tage in Ihrem charmanten Ferienort auf Krk. \n  \n 1. Tag: Anreise \nDie Anreise fÃ¼hrt Sie Ã¼ber Ã–sterreich und den Karawankentunnel\, durch Slowenien. Vorbei an Ljubljana erreichen Sie Kroatien und die Insel Krk. In der Puntarska Draga Bucht\, empfÃ¤ngt man Sie im Falkensteiner Hotel Park Punat. Sie werden nach dem BegrÃ¼ÃŸungsdrink am umfangreichen Buffet erwartet. \n  \n2. &#8211; 6. Tag | Insel Krk â€“ Ausflugsprogramm \nSie verbringen erholsame Urlaubstage auf der Sonneninsel. GenieÃŸen Sie die mediterrane AtmosphÃ¤re und das milde Klima. Erkunden Sie die Insel bei SpaziergÃ¤ngen\, genieÃŸen Sie die KÃ¶stlichkeiten aus der HotelkÃ¼che und nehmen Sie am Ausflugsprogramm teil. \nRundfahrt Insel Krk \nLernen Sie die Insel bei einer Rundfahrt kennen. Ihre Reiseleitung zeigt Ihnen die SehenswÃ¼rdigkeiten und die schÃ¶nsten Fleckchen der Insel. In Vrbnik erwartet Sie eine Verkostung mit Schinken\, KÃ¤se und Wein. \nAusflug Rijeka und Opatija \nDie Hafenstadt Rijeka auf dem Festland bietet FÃ¤hrverbindungen auf die kroatischen Inseln sowie nach Bari. Hier finden sich archÃ¤ologische Funde aus der RÃ¶merzeit. Als &#8222;Perle der Adria&#8220; bezeichnet man Opatija\, Seebad mit langer Geschichte und facettenreichem Kulturerbe. Bei Kaffee und Kuchen genieÃŸen Sie das mediterrane Flair. \nAusflug Insel Cres (exkl.) \nHeute fahren Sie zur Anlegestelle Valbiska und unternehmen dort eine FÃ¤hrfahrt zur Insel Cres. Hier kÃ¶nnen Sie durch die gleichnamige Stadt spazieren und den Marktplatz entdecken\, der viele Geschichten Ã¼ber den Handel zu erzÃ¤hlen hat. In Cres besuchen Sie die &#8222;Landwirtschaftliche Genossenschaft&#8220;\, die Ã¼ber eine eigene OlivenÃ¶lfabrik verfÃ¼gt. Hier haben Sie die Gelegenheit das regionale OlivenÃ¶l zu verkosten. AnschlieÃŸend haben Sie Zeit zur freien VerfÃ¼gung. \nHalbtagsausflug Panorama-Schifffahrt (exkl.) \nBei einer Schifffahrt entlang der KÃ¼ste von Krk erwarten Sie eindrucksvolle Aussichten auf Punat und Krk-Stadt sowie die attraktiven Klippen der Inseln Plavnik und Cres. \n  \n7. Tag:Â  RÃ¼ckreise \nNach erlebnisreichen Tagen in Kroatien heiÃŸt es heute leider Abschied nehmen. Mit schÃ¶nen Erinnerungen treten Sie die Heimreise an. \n  \nReise wird in Zusammenarbeit mit unserer Partnerfirma durchgefÃ¼hrt. \n 
URL:https://fichtenkamm.de/reise/sonne-tanken-auf-der-insel-krk/
CATEGORIES:Genuss- & Erlebnisreisen,StÃ¤dtereisen,Urlaubsreisen
ATTACH;FMTTYPE=image/jpeg:https://fichtenkamm.de/wp-content/uploads/2021/09/3AdobeStock_118169231_Opatija.jpg
END:VEVENT
END:VCALENDAR