BEGIN:VCALENDAR
VERSION:2.0
PRODID:-//Fichtenkamm Reisen - ECPv5.12.3//NONSGML v1.0//EN
CALSCALE:GREGORIAN
METHOD:PUBLISH
X-WR-CALNAME:Fichtenkamm Reisen
X-ORIGINAL-URL:https://fichtenkamm.de
X-WR-CALDESC:Veranstaltungen fÃ¼r Fichtenkamm Reisen
BEGIN:VTIMEZONE
TZID:Europe/Berlin
BEGIN:DAYLIGHT
TZOFFSETFROM:+0100
TZOFFSETTO:+0200
TZNAME:CEST
DTSTART:20240331T010000
END:DAYLIGHT
BEGIN:STANDARD
TZOFFSETFROM:+0200
TZOFFSETTO:+0100
TZNAME:CET
DTSTART:20241027T010000
END:STANDARD
END:VTIMEZONE
BEGIN:VEVENT
DTSTART;VALUE=DATE:20240904
DTEND;VALUE=DATE:20240909
DTSTAMP:20260422T210423
CREATED:20240119T182216Z
LAST-MODIFIED:20240216T154630Z
UID:14317-1725408000-1725839999@fichtenkamm.de
SUMMARY:Sonne & Seenzauber am MillstÃ¤tter See
DESCRIPTION:Verbringen Sie ein paar erholsame Tage in unserem schÃ¶nen Hotel Alexanderhof in Millstatt. Am Rande der Nationalparks â€žHohe Tauernâ€œ und â€žKÃ¤rntner Nockbergeâ€œ\, liegt eingebettet in die malerische Gebirgswelt OberkÃ¤rntens Ihr Urlaubsort. Ganz im Zeichen des sinnlichen Naturerlebnisses stehen die See- und BergberÃ¼hrungen rund um den MillstÃ¤tter See\, das Juwel in KÃ¤rnten. Rundfahrten zu den schÃ¶nsten PlÃ¤tzen dieser Region\, wie WÃ¶rthersee oder Ã¼ber die malerische NockalmstraÃŸe dÃ¼rfen bei dieser Reise nicht fehlen. Entspannte Urlaubstage sind hier garantiert\, Ã¼berzeugen Sie sich selbst! \nÂ  \n1. Tag:Â  Anreise\n \nAnreise Ã¼ber MÃ¼nchen durch Tirol nach Osttirol â€“ Millstatt am MillstÃ¤tter See. Hier erwartet Sie Ihr gemÃ¼tliches 4*-Hotel. Nach der BegrÃ¼ÃŸung erwartet Sie im Restaurant das Abendessen. \n  \n 2. Tag:Â  Millstatt & Schifffahrt\n \nHeute kÃ¶nnen Sie bei einem gefÃ¼hrten Spaziergang Ihr Urlaubszuhause kennenlernen. Im ehemalige Benediktinerkloster erfahren Sie einiges Ã¼ber das romanische Bauwerk. Am Nachmittag laden wir Sie zu einer Schifffahrt auf dem MillstÃ¤tter See ein. AnschlieÃŸend haben Sie noch Zeit zur freien VerfÃ¼gung. \n  \n 3. Tag:Â  WÃ¶rthersee\n \nFreuen Sie sich heute auf eine schÃ¶ne Rundfahrt zum WÃ¶rthersee. Lernen Sie bei einem Rundgang Velden\, den bekanntesten Ort am See mit seiner eindrucksvollen Promenade kennen. Ein Besuch in Klagenfurth darf bei diesem Ausflug natÃ¼rlich auch nicht fehlen. Erleben Sie die pulsierende Altstadt\, die durch ihre italienischen Baumeister geprÃ¤gt wurde. \n  \n 4. Tag:Â Â  Nockberge & Nationalpark \nBei dem heutigen Ausflug kÃ¶nnen Sie auf der PanoramastraÃŸe durch den Nationalpark die herrliche Aussicht bewundern. Das ist die einzige StraÃŸe\, die in diese besondere Landschaft fÃ¼hrt\, 35 km lang und schlÃ¤ngelt sich in Serpentinen durch diese ursprÃ¼ngliche Gegend. Sie wurde unter grÃ¶ÃŸtmÃ¶glicher Schonung der Natur erbaut. GenieÃŸen Sie die malerische Welt der Nockberge\, die sicherlich zu den unvergesslichen Urlaubserlebnissen gehÃ¶ren wird. \n  \n 5. Tag: RÃ¼ckreise \nErholt und entspannt treten Sie mit vielen neuen EindrÃ¼cken im GepÃ¤ck heute die Heimreise an. \n 
URL:https://fichtenkamm.de/reise/sonne-seenzauber-am-millstaetter-see-2/
CATEGORIES:Genuss- & Erlebnisreisen,Urlaubsreisen
ATTACH;FMTTYPE=image/jpeg:https://fichtenkamm.de/wp-content/uploads/2022/02/KlopeinerSee-Westufer.jpg
END:VEVENT
END:VCALENDAR