BEGIN:VCALENDAR
VERSION:2.0
PRODID:-//Fichtenkamm Reisen - ECPv5.12.3//NONSGML v1.0//EN
CALSCALE:GREGORIAN
METHOD:PUBLISH
X-WR-CALNAME:Fichtenkamm Reisen
X-ORIGINAL-URL:https://fichtenkamm.de
X-WR-CALDESC:Veranstaltungen fÃ¼r Fichtenkamm Reisen
BEGIN:VTIMEZONE
TZID:Europe/Berlin
BEGIN:DAYLIGHT
TZOFFSETFROM:+0100
TZOFFSETTO:+0200
TZNAME:CEST
DTSTART:20250330T010000
END:DAYLIGHT
BEGIN:STANDARD
TZOFFSETFROM:+0200
TZOFFSETTO:+0100
TZNAME:CET
DTSTART:20251026T010000
END:STANDARD
END:VTIMEZONE
BEGIN:VEVENT
DTSTART;VALUE=DATE:20250929
DTEND;VALUE=DATE:20251004
DTSTAMP:20260422T042150
CREATED:20241230T171223Z
LAST-MODIFIED:20241230T171223Z
UID:15224-1759104000-1759535999@fichtenkamm.de
SUMMARY:Sonne am Lago Maggiore
DESCRIPTION:Diese Reise bietet Ihnen eine Naturlandschaft\, deren Kontrastreichtum vielfÃ¤ltiger kaum sein kÃ¶nnte. Das milde\, sÃ¼dlÃ¤ndische Klima und die stellenweise exotische VeÂ­Â­getation ermÃ¶glichen es Ihnen\, eine â€žWeltreiseâ€œ auf kleinem Raum zu erleben. PrÃ¤gend sind die kleinen\, malerischen OrtÂ­Â­Â­schaften mit den alten HÃ¤usern\, die man besonders in den Ortskernen findet\, oder OrÂ­Â­te\, die von luxuriÃ¶sen Bauten geprÃ¤gt sind und das Flair von Reichtum verbreiten. Eine Fahrt zum schÃ¶nen Ortasee\, den kleinsten der oberitalienischen Seen\, darf hierbei natÃ¼rlich nicht fehlen. Diese Reise verspricht Entspannung und mediterrane Erholung!  \n  \n1. Tag: Â Anreise \nAnreise Ã¼ber Basel â€“ Luzern â€“ Bellinzona nach Stresa am Lago Maggiore zu Ihrem 4* Hotel. Nach dem Check-In und der Zimmerverteilung erwartet Sie das Abendessen im Hotel. \n  \n2. Tag: Â BorromÃ¤ische Inseln \nDie BorromÃ¤ischen Inseln warten daÂ­rauf\, von Ihnen erkundet zu werÂ­Â­den. Mit dem Boot und Ihrer Reiseleitung begeben Sie sich auf Entdeckungstour. Die Isola Bella\, die ihrem Namen alle Ehre macht\, befindet sich im Besitz der Familie Borromeo und beeindruckt durch ihren prunkvollen Palast\, der von einem wunÂ­Â­derschÃ¶nen Garten umgeben ist. Eine ganz andere AtmosphÃ¤re wird Sie auf der Isola Madre erwarten. ZurÃ¼ck in StreÂ­Â­sa\, lÃ¤dt das schÃ¶ne StÃ¤dtchen zum Verweilen ein. \n  \n3. Tag: Â Ortasee \nBesuchen Sie heute den malerischen Ortasee\, ein wahres SchmuckstÃ¼ck im Piemont. In der kleinen Altstadt von Orta San Giulio mit seinem idyllischen Dorfplatz und den kleinen GÃ¤sschen genieÃŸt man ein besonderes Flair. Ganz in der NÃ¤he beÂ­Â­Â­Â­Â­findet sich auch die einzige Insel des Sees\, die Isola di San Giulio mit der Basilica di San Giulio aus dem 12. Jahrhundert\, welches Sie per Boot erreichen und besichtigen werden. \n  \n4. Tag: Â Verbania \nAm heutigen Tag steht ein Besuch von Verbania auf dem Programm. Aufgrund ihrer vielen GrÃ¼nflÃ¤chen wird diese Stadt auch der â€žGarten am Seeâ€œ genannt. Der heutige Stadtteil Pallanza ist ein beliebtes Reiseziel mit vielen Villen und Parks. Gelegenheit zum Besuch der Villa Taranto in Pallanza. \n  \n5. Tag: Â RÃ¼ckreise \nLeider heiÃŸt es heute schon wieder Abschied nehmen von Italien. Mit schÃ¶nen Erinnerungen treten Sie die Heimreise an.
URL:https://fichtenkamm.de/reise/sonne-am-lago-maggiore-3/
CATEGORIES:Genuss- & Erlebnisreisen,Urlaubsreisen
ATTACH;FMTTYPE=image/jpeg:https://fichtenkamm.de/wp-content/uploads/2021/09/3LagoMaggiore.jpg
END:VEVENT
END:VCALENDAR