BEGIN:VCALENDAR
VERSION:2.0
PRODID:-//Fichtenkamm Reisen - ECPv5.12.3//NONSGML v1.0//EN
CALSCALE:GREGORIAN
METHOD:PUBLISH
X-WR-CALNAME:Fichtenkamm Reisen
X-ORIGINAL-URL:https://fichtenkamm.de
X-WR-CALDESC:Veranstaltungen fÃ¼r Fichtenkamm Reisen
BEGIN:VTIMEZONE
TZID:Europe/Berlin
BEGIN:DAYLIGHT
TZOFFSETFROM:+0100
TZOFFSETTO:+0200
TZNAME:CEST
DTSTART:20260329T010000
END:DAYLIGHT
BEGIN:STANDARD
TZOFFSETFROM:+0200
TZOFFSETTO:+0100
TZNAME:CET
DTSTART:20261025T010000
END:STANDARD
END:VTIMEZONE
BEGIN:VEVENT
DTSTART;VALUE=DATE:20260619
DTEND;VALUE=DATE:20260831
DTSTAMP:20260425T163856
CREATED:20260119T174929Z
LAST-MODIFIED:20260414T162346Z
UID:16247-1781827200-1788134399@fichtenkamm.de
SUMMARY:Sommerurlaub an der ital. Adria â€“ Rimini
DESCRIPTION:Abfahrt: jeweils freitagabendsÂ  Â  Â RÃ¼ckkunft: jeweils sonntagmorgens \nEntspannen und genieÃŸen ist bei diesem Urlaub garantiert. Die KÃ¼ste der Region Rimini bis Cesenatico ist ein wahres Wasser- und Badeparadies fÃ¼r Familien. Kilometerlange\, feinsandige StrÃ¤nde\, sanft in das klare Wasser Ã¼bergehend\, laden zum Verweilen ein. Dort genieÃŸen Sie die warme Sonne\, spÃ¼ren den feinen Sand unter den FÃ¼ÃŸen und atmen die salzige Meeresluft. Begegnungen\, frÃ¶hliches Tanzen\, SpielspaÃŸ und gemÃ¼tliches Flanieren mit Gleichgesinnten machen jeden Moment unvergesslich. Der charmante Badeort Cesenatico liegt idyllisch zwischen Ravenna und Rimini an der italienischen Adria. Die historische Altstadt mit dem malerischen Hafenkanal\, entworfen von Leonardo da Vinci\, verzaubert Besucher bis heute und verleiht dem Ort ein romantisches Flair. Perfekt\, um in einem unserer langjÃ¤hrigen Familienhotels einen unbeschwerten Urlaub zu verbringen! \n  \n***S-Hotel DOGE \nDas familiÃ¤re 3*Superior Hotel Doge liegt direkt an der Strandpromenade von Torre Pedrera und prÃ¤sentiert sich modern\, elegant und einladend. Der Ort ist gastfreundlich\, komfortabel und bezaubernd\, liegt nur wenige Minuten von Rimini und Cesenatico entfernt. \nBadespaÃŸ und Entspannung inklusive: Ein Swimmingpool mit Hydromassage\, Jacuzzi und Solarium warten auf Sie. FÃ¼r die Kleinen sorgt ein sicherer\, geschÃ¼tzter Spielplatz. \n  \nDas Hotel wurde kÃ¼rzlich innen renoviert und die gerÃ¤umigen Zimmer bieten modernen Wohnkomfort mit Dusche\, WC\, Klimaanlage\, TV\, Safe\, Minibar\, WLAN und Balkon. \nhttps://www.hoteldoge.net/de \n  \nHalbpension &#8211; All Inklusive! \nFrÃ¼hstÃ¼ck und Abendessen mit serviertem 3-Gang-WahlmenÃ¼ mit Salatbuffet\, inkl. GetrÃ¤nke (Wasser\, Landwein\, Cola u. Limonade)\, sowie 1 Sonnenschirm m. 1 bzw. 2 Sonnenliege am Strand (Sa.-Fr. / Zone 3) \nKinderermÃ¤ÃŸigung (bei 2 Vollzahler im Zimmer):\n2 â€“ 7 Jahre 50 %\n8 â€“ 12 Jahre 20 %\nab 13 Jahre 10 % \nZuschlÃ¤ge/p. Woche + p. P. \nZimmer m. Balkon u. MeerblickÂ   50\,â€“ â‚¬ \n 
URL:https://fichtenkamm.de/reise/sommerurlaub-an-der-ital-adria-rimini-5/
CATEGORIES:Urlaubsreisen
ATTACH;FMTTYPE=image/jpeg:https://fichtenkamm.de/wp-content/uploads/2025/03/168Strand.jpg
END:VEVENT
END:VCALENDAR