BEGIN:VCALENDAR
VERSION:2.0
PRODID:-//Fichtenkamm Reisen - ECPv5.12.3//NONSGML v1.0//EN
CALSCALE:GREGORIAN
METHOD:PUBLISH
X-WR-CALNAME:Fichtenkamm Reisen
X-ORIGINAL-URL:https://fichtenkamm.de
X-WR-CALDESC:Veranstaltungen fÃ¼r Fichtenkamm Reisen
BEGIN:VTIMEZONE
TZID:Europe/Berlin
BEGIN:DAYLIGHT
TZOFFSETFROM:+0100
TZOFFSETTO:+0200
TZNAME:CEST
DTSTART:20240331T010000
END:DAYLIGHT
BEGIN:STANDARD
TZOFFSETFROM:+0200
TZOFFSETTO:+0100
TZNAME:CET
DTSTART:20241027T010000
END:STANDARD
END:VTIMEZONE
BEGIN:VEVENT
DTSTART;VALUE=DATE:20240621
DTEND;VALUE=DATE:20240902
DTSTAMP:20260422T234348
CREATED:20240216T132703Z
LAST-MODIFIED:20240216T132703Z
UID:14690-1718928000-1725235199@fichtenkamm.de
SUMMARY:Sommerurlaub an der ital. Adria â€“ Rimini
DESCRIPTION:Abfahrt: jeweils freitagabendsÂ  Â  Â RÃ¼ckkunft: jeweils sonntagmorgens \nEntspannen und genieÃŸen ist bei diesem Urlaub garantiert. Die KÃ¼ste rund um die Region Rimini / Torre-Pedrera bis nach Cesenatico ist ein wahres Wasser- und Badeparadies fÃ¼r Familien. Die Orte hier sind bekannt fÃ¼r ihre kilometerlangen feinsandigen\, flach ins Wasser abfallenden StrÃ¤nde. FÃ¼r den Adriaurlauber heiÃŸt das zunÃ¤chst einmal\, sich in der warmen Sonne\, im warmen Sand\, sich im Meer aalen\, Leute kennen lernen\, tanzen\, spielen und flanieren. Ein idealer Urlaubsort\, um in einem unserer langjÃ¤hrigen Familienhotels Ihren Urlaub zu verbringen! \n  \n***Hotels EL CID & CAMPEADOR \nZwei anliegende Hotels in exzellenter Lage an der Strandpromenade\, vollstÃ¤ndig klimatisiert\, elegante AufentÂ­haltsrÃ¤ume mit American Bar\, privater Swimmingpool mit Jacuzzi (150Â m entfernt)\, Kinderspielecke im Garten. Alle Zimmer sind klimatisiert und mit Bad/Dusche\, WC\, Telefon\, TV\, TreÂ­Â­Â­Â­Â­sor und Balkon ausgestattet. Einmal tÃ¤gÂ­Â­Â­Â­lich kÃ¶nnen Sie das Whirlpool-Land â€žOasiâ€œ mit 3 Hydromassagebecken zur Entspannung nutzen. Hier erwartet Sie vor allem die herzliche Aufnahme durch ein Team\, dem Ihr Wohlbefinden immer am Herzen liegt! \nhttps://www.hotels-elcid-campeador.com/ \n  \nHalbpension &#8211; All Inklusive!\nAbendessen mit serviertem 4-Gang-WahlmenÃ¼\, inkl. GetrÃ¤nke (Wasser\, Cola\, Limonade u. Landwein)\, sowie 1 Sonnenschirm mit 1 bzw. 2 Sonnenliegen am Strand (Sa.â€“Fr./ Zone 3) \nKinderermÃ¤ÃŸigung (bei 2 Vollzahler im Zimmer):\n2 â€“ 7 Jahre 50 %\n8 â€“ 12 Jahre 20 %\nab 13 Jahre 10 % \nZuschlÃ¤ge/p. Woche + p. P. \nMeerblick\, Etage\, Zimmerwunsch 70\,â€“ â‚¬ \n 
URL:https://fichtenkamm.de/reise/sommerurlaub-an-der-ital-adria-rimini-3/
CATEGORIES:Urlaubsreisen
END:VEVENT
END:VCALENDAR