BEGIN:VCALENDAR
VERSION:2.0
PRODID:-//Fichtenkamm Reisen - ECPv5.12.3//NONSGML v1.0//EN
CALSCALE:GREGORIAN
METHOD:PUBLISH
X-WR-CALNAME:Fichtenkamm Reisen
X-ORIGINAL-URL:https://fichtenkamm.de
X-WR-CALDESC:Veranstaltungen fÃ¼r Fichtenkamm Reisen
BEGIN:VTIMEZONE
TZID:Europe/Berlin
BEGIN:DAYLIGHT
TZOFFSETFROM:+0100
TZOFFSETTO:+0200
TZNAME:CEST
DTSTART:20260329T010000
END:DAYLIGHT
BEGIN:STANDARD
TZOFFSETFROM:+0200
TZOFFSETTO:+0100
TZNAME:CET
DTSTART:20261025T010000
END:STANDARD
END:VTIMEZONE
BEGIN:VEVENT
DTSTART;VALUE=DATE:20260619
DTEND;VALUE=DATE:20260831
DTSTAMP:20260425T180322
CREATED:20260120T115129Z
LAST-MODIFIED:20260120T115129Z
UID:16249-1781827200-1788134399@fichtenkamm.de
SUMMARY:Sommerurlaub an der Adria â€“ Gatteo a Mare
DESCRIPTION:Abfahrt: jeweils freitagabendsÂ  Â  Â RÃ¼ckkunft: jeweils sonntagmorgens \nEEntspannen und genieÃŸen ist bei diesem Urlaub garantiert. Die KÃ¼ste der Region Rimini bis Cesenatico ist ein wahres Wasser- und Badeparadies fÃ¼r Familien. Kilometerlange\, feinsandige StrÃ¤nde\, sanft in das klare Wasser Ã¼bergehend\, laden zum Verweilen ein. Dort genieÃŸen Sie die warme Sonne\, spÃ¼ren den feinen Sand unter den FÃ¼ÃŸen und atmen die salzige Meeresluft. Begegnungen\, frÃ¶hliches Tanzen\, SpielspaÃŸ und gemÃ¼tliches Flanieren mit Gleichgesinnten machen jeden Moment unvergesslich. Der charmante Badeort Cesenatico liegt idyllisch zwischen Ravenna und Rimini an der italienischen Adria. Die historische Altstadt mit dem malerischen Hafenkanal\, entworfen von Leonardo da Vinci\, verzaubert Besucher bis heute und verleiht dem Ort ein romantisches Flair.  \nPerfekt\, um in einem unserer langjÃ¤hrigen Familienhotels einen unbeschwerten Urlaub zu verbringen! \n  \nPark Hotel Morigi & Ornella \nDas familiÃ¤re ***Hotel wurde vollstÃ¤ndig renoviert\, modern ausgestattet und liegt nur 200 Meter vom Privatstrand entfernt. Viel Platz fÃ¼r die Kinder\, ein groÃŸes Schwimmbad mit Wasserfall und Whirlpool\, sowie ein eigener Privatstrand laden zum Verweilen ein. Alle Zimmer verfÃ¼gen Ã¼ber Bad bzw. Dusche\, WC\, Telefon\, TV\, FÃ¶hn\, Klimaanlage und Balkon. Entspannung finden Sie auÃŸerdem im neu gestalteten Wellnessbereich mit Sauna und Aromadampfbad. In Verbindung mit der guten KÃ¼che und der herzlichen Gastfreundschaft der Familie Morigi erwartet Sie hier ein unvergesslicher Urlaub. \nhttps://www.parkhotelmorigi.it/de \n  \nHalbpension-All Inklusive! \nMehrgÃ¤ngiges Abend-WahlmenÃ¼ mit Vorspeise- und Dessert- Buffet\, Tischwein und alkoholfreie GeÂ­Â­Â­Â­trÃ¤nke zu den Mahlzeiten\, Sonnenliege & Sonnenschirm am Strand (Sa.â€“Fr./Zone 3) \n  \nAufpreis/p. Woche + p. P.  \nVollpension (inkl. MittagsmenÃ¼):Â  70\,- â‚¬ \nFamily-Zimmer:Â  Â Â Â Â Â 70\,- â‚¬ \nComfort-Zimmer: Â  105\,â€“ â‚¬ \nJunior-Suite:Â Â  Â Â Â Â Â Â Â Â Â 175\,- â‚¬ \n  \nKinderermÃ¤ÃŸigung (bei 2 Vollzahler im Zimmer):\n0 JahreÂ  Â  Â  Â  Â  Â  Â  80 %\n1 â€“ 2 JahreÂ  Â  Â Â  Â 65 %\n3 â€“ 10 JahreÂ  Â  Â 50 %\n11 â€“ 13 JahreÂ  Â  20 %\nab 14 JahreÂ  Â  Â  Â 10 %
URL:https://fichtenkamm.de/reise/sommerurlaub-an-der-adria-gatteo-a-mare-4/
CATEGORIES:Urlaubsreisen
ATTACH;FMTTYPE=image/jpeg:https://fichtenkamm.de/wp-content/uploads/2024/04/51IMG_0779-Pano.jpg
END:VEVENT
END:VCALENDAR