BEGIN:VCALENDAR
VERSION:2.0
PRODID:-//Fichtenkamm Reisen - ECPv5.12.3//NONSGML v1.0//EN
CALSCALE:GREGORIAN
METHOD:PUBLISH
X-WR-CALNAME:Fichtenkamm Reisen
X-ORIGINAL-URL:https://fichtenkamm.de
X-WR-CALDESC:Veranstaltungen fÃ¼r Fichtenkamm Reisen
BEGIN:VTIMEZONE
TZID:Europe/Berlin
BEGIN:DAYLIGHT
TZOFFSETFROM:+0100
TZOFFSETTO:+0200
TZNAME:CEST
DTSTART:20260329T010000
END:DAYLIGHT
BEGIN:STANDARD
TZOFFSETFROM:+0200
TZOFFSETTO:+0100
TZNAME:CET
DTSTART:20261025T010000
END:STANDARD
END:VTIMEZONE
BEGIN:VEVENT
DTSTART;VALUE=DATE:20260619
DTEND;VALUE=DATE:20260831
DTSTAMP:20260425T164337
CREATED:20260119T172418Z
LAST-MODIFIED:20260202T104925Z
UID:16244-1781827200-1788134399@fichtenkamm.de
SUMMARY:Sommerurlaub an der Adria â€“ Cesenatico
DESCRIPTION:Abfahrt: jeweils freitagabendsÂ  Â  Â RÃ¼ckkunft: jeweils sonntagmorgens \nEntspannen und genieÃŸen ist bei diesem Urlaub garantiert. Die KÃ¼ste der Region Rimini bis Cesenatico ist ein wahres Wasser- und Badeparadies fÃ¼r Familien. Kilometerlange\, feinsandige StrÃ¤nde\, sanft in das klare Wasser Ã¼bergehend\, laden zum Verweilen ein. Dort genieÃŸen Sie die warme Sonne\, spÃ¼ren den feinen Sand unter den FÃ¼ÃŸen und atmen die salzige Meeresluft. Begegnungen\, frÃ¶hliches Tanzen\, SpielspaÃŸ und gemÃ¼tliches Flanieren mit Gleichgesinnten machen jeden Moment unvergesslich. Der charmante Badeort Cesenatico liegt idyllisch zwischen Ravenna und Rimini an der italienischen Adria. Die historische Altstadt mit dem malerischen Hafenkanal\, entworfen von Leonardo da Vinci\, verzaubert Besucher bis heute und verleiht dem Ort ein romantisches Flair. Perfekt\, um in einem unserer langjÃ¤hrigen Familienhotels einen unbeschwerten Urlaub zu verbringen! \n  \nHotel Colorado \n****Hotel liegt in wunderschÃ¶ner Lage direkt an der Strandpromenade und beeindruckt mit einem elegant gestalteten\, klimatisierten Speisesaal\, der eine herrliche Meer Aussicht bietet. Neben einer einladenden Gartenterrasse und einem gemÃ¼tlichen Aufenthaltsraum verfÃ¼gt es Ã¼ber Bar und einen 140 mÂ² groÃŸen Swimming-Pool mit Sprudelbad. LeihfahrrÃ¤der stehen ebenfalls bereit. \nDie neu renovierten Zimmer sind alle modern ausgestattet mit Dusche\, WC\, FÃ¶n\, Telefon\, Safe\, TV\, KÃ¼hlschrank und Balkon mit Meerblick. Die ausgezeichnete landestypische KÃ¼che verwÃ¶hnt Sie mit einem reichhaltigen FrÃ¼hstÃ¼cksbuffet sowie einem mehrgÃ¤ngigen Mittags- und AbendmenÃ¼ nach Wahl\, ergÃ¤nzt durch ein umfangreiches Salatbuffet und Dessert. \nhttps://www.hotelcolorado.it/de/ \n  \nHalbpension\nMehrgÃ¤ngiges Abend-WahlmenÃ¼ mit Vorspeise- und Dessert-Buffet\, Tischwein und alkoholfreie GetrÃ¤nke zu den Mahlzeiten. \nKinderermÃ¤ÃŸigung (bei 2 Vollzahler im Zimmer):\n1 â€“ 2 JahreÂ Â  60 % \nÂ 3 â€“ 5 JahreÂ Â  50 % \nÂ 6 â€“ 10 Jahre 40 %\n11 â€“ 13 Jahre 30 %\nab 14 JahreÂ Â Â  10 % \nFamilienspecial\n50 % ErmÃ¤ÃŸigung fÃ¼r 2 Kinder bis 13 JahÂ­Â­Â­re im Elternzimmer \nSingle mit Kind \n20 % ErmÃ¤ÃŸigung f. Kind bis 13 Jahre + Vollzahler \nStrandservice: 175\,â€“ â‚¬\nPro DZ/Woche erhalten Sie zwei SonÂ­nenÂ­liegen + 1 Sonnenschirm am Strand (Sa.â€“Fr./ab Reihe 7).\nZusÃ¤tzliche Liegen auf Anfrage.
URL:https://fichtenkamm.de/reise/sommerurlaub-an-der-adria-cesenatico/
CATEGORIES:Urlaubsreisen
ATTACH;FMTTYPE=image/jpeg:https://fichtenkamm.de/wp-content/uploads/2024/04/5Schwimmbad-1.jpg
END:VEVENT
END:VCALENDAR