BEGIN:VCALENDAR
VERSION:2.0
PRODID:-//Fichtenkamm Reisen - ECPv5.12.3//NONSGML v1.0//EN
CALSCALE:GREGORIAN
METHOD:PUBLISH
X-WR-CALNAME:Fichtenkamm Reisen
X-ORIGINAL-URL:https://fichtenkamm.de
X-WR-CALDESC:Veranstaltungen fÃ¼r Fichtenkamm Reisen
BEGIN:VTIMEZONE
TZID:Europe/Berlin
BEGIN:DAYLIGHT
TZOFFSETFROM:+0100
TZOFFSETTO:+0200
TZNAME:CEST
DTSTART:20260329T010000
END:DAYLIGHT
BEGIN:STANDARD
TZOFFSETFROM:+0200
TZOFFSETTO:+0100
TZNAME:CET
DTSTART:20261025T010000
END:STANDARD
END:VTIMEZONE
BEGIN:VEVENT
DTSTART;VALUE=DATE:20260619
DTEND;VALUE=DATE:20260831
DTSTAMP:20260425T152720
CREATED:20260119T173843Z
LAST-MODIFIED:20260414T131319Z
UID:16242-1781827200-1788134399@fichtenkamm.de
SUMMARY:Sommerurlaub an der Adria: Cesenatico - Valverde
DESCRIPTION:Abfahrt: jeweils freitagabendsÂ  Â  Â RÃ¼ckkunft: jeweils sonntagmorgens \nEntspannen und genieÃŸen ist bei diesem Urlaub garantiert. Die KÃ¼ste der Region Rimini bis Cesenatico ist ein wahres Wasser- und Badeparadies fÃ¼r Familien. Kilometerlange\, feinsandige StrÃ¤nde\, sanft in das klare Wasser Ã¼bergehend\, laden zum Verweilen ein. Dort genieÃŸen Sie die warme Sonne\, spÃ¼ren den feinen Sand unter den FÃ¼ÃŸen und atmen die salzige Meeresluft. Begegnungen\, frÃ¶hliches Tanzen\, SpielspaÃŸ und gemÃ¼tliches Flanieren mit Gleichgesinnten machen jeden Moment unvergesslich. Der charmante Badeort Cesenatico liegt idyllisch zwischen Ravenna und Rimini an der italienischen Adria. Die historische Altstadt mit dem malerischen Hafenkanal\, entworfen von Leonardo da Vinci\, verzaubert Besucher bis heute und verleiht dem Ort ein romantisches Flair. Perfekt\, um in einem unserer langjÃ¤hrigen Familienhotels einen unbeschwerten Urlaub zu verbringen! \nHotel Excelsior \nDas familiÃ¤r gefÃ¼hrte ***Hotel besticht durch seine gute Lage an der Uferpromenade. Auf der groÃŸzÃ¼gigen Terrasse entspannen Sie am Panoramapool und im beheizten Whirlpool mit Blick aufs Meer. Um die Umgebung zu entdecken\, stehen den GÃ¤sten kostenfreie LeihfahrrÃ¤der zur VerfÃ¼gung. Alle Zimmer sind mit Dusche\, WC\, Telefon\, TV und Klimaanlage ausgestattet. Im Restaurant verwÃ¶hnt ein reichhaltiges FrÃ¼hstÃ¼cksbuffet\, sowie ein mehrgÃ¤ngiges Mittag- und AbendmenÃ¼ mit frischem GemÃ¼se- und Salatbuffet. \nhttps://www.excelsiorhotel.com/de-DE \n  \nKinderermÃ¤ÃŸigung (bei 2 Vollzahler im Zimmer):\n1 â€“ 2 Jahre 60 %\n3 â€“ 7 Jahre 50 %\n8 â€“ 13 Jahre 30 %\nab 14 Jahre 10 % \nStrandservice:\nAuf Anfrage / Vor Ort zu bezahlen: Zwei Sonnenliegen + 1 Sonnenschirm am Strand (Sa.â€“Fr./Zone 4) \nAufpreis/p. Woche + p. P. \nZimmer Komfort m. Meerblick / Zimmerwunsch 91\,â€“ â‚¬\nZimmer Relax (Familienzimmer) 49\,â€“ â‚¬
URL:https://fichtenkamm.de/reise/sommerurlaub-an-der-adria-cesenatico-valverde/
CATEGORIES:Urlaubsreisen
END:VEVENT
END:VCALENDAR