BEGIN:VCALENDAR
VERSION:2.0
PRODID:-//Fichtenkamm Reisen - ECPv5.12.3//NONSGML v1.0//EN
CALSCALE:GREGORIAN
METHOD:PUBLISH
X-WR-CALNAME:Fichtenkamm Reisen
X-ORIGINAL-URL:https://fichtenkamm.de
X-WR-CALDESC:Veranstaltungen fÃ¼r Fichtenkamm Reisen
BEGIN:VTIMEZONE
TZID:Europe/Berlin
BEGIN:DAYLIGHT
TZOFFSETFROM:+0100
TZOFFSETTO:+0200
TZNAME:CEST
DTSTART:20250330T010000
END:DAYLIGHT
BEGIN:STANDARD
TZOFFSETFROM:+0200
TZOFFSETTO:+0100
TZNAME:CET
DTSTART:20251026T010000
END:STANDARD
END:VTIMEZONE
BEGIN:VEVENT
DTSTART;VALUE=DATE:20250620
DTEND;VALUE=DATE:20250901
DTSTAMP:20260422T104842
CREATED:20250204T154045Z
LAST-MODIFIED:20250305T093858Z
UID:15344-1750377600-1756684799@fichtenkamm.de
SUMMARY:Sommerurlaub an der Adria: Cesenatico - Valverde
DESCRIPTION:Abfahrt: jeweils freitagabendsÂ  Â  Â RÃ¼ckkunft: jeweils sonntagmorgens \nEntspannen und genieÃŸen ist bei diesem Urlaub garantiert. Die KÃ¼ste rund um die Region Rimini bis nach Cesenatico ist ein wahres Wasser- und Badeparadies fÃ¼r Familien. Die Orte hier sind bekannt fÃ¼r ihre kilometerlangen feinsandigen\, flach ins Wasser abfallenden StrÃ¤nde. FÃ¼r den Adriaurlauber heiÃŸt das zunÃ¤chst einmal\, sich in der warmen Sonne\, im warmen Sand\, im warmen Meer aalen\, Leute kennen lernen\, tanzen\, spielen\, flanieren. Der schÃ¶ne Badeort Cesenatico-Valverde liegt zwischen Ravenna und Rimini an der italienischen Adria. Die historische Altstadt mit ihrem malerischen Hafenkanal\, der von Leonardo da Vinci entworfen wurde\, hat ihren romantischen Charakter bis heute bewahrt. Ideale Urlaubsorte\, um in einem unserer langjÃ¤hrigen Familienhotels Ihren Urlaub zu verbringen! \nHotel Excelsior \nDas familiÃ¤re ***Superior-Hotel befindet sich in guter Lage an der Uferpromenade. Es bietet seinen GÃ¤sten einen schÃ¶nen Panoramapool sowie einen Whirlpool mit beheiztem Wasser auf einer groÃŸen Terrasse mit Blick zum Meer. Zur Erkundung der Umgebung stellt das Hotel kostenlose LeihfahrrÃ¤der zur VerfÃ¼gung. Alle Zimmer sind mit Dusche\, WC\, Telefon\, TV und Klimaanlage ausgestattet. Im Restaurant wird den GÃ¤sten ein reichhaltiges FrÃ¼hstÃ¼cksbuffet sowie ein mehrgÃ¤ngiges MittagmenÃ¼ (gegen Aufpreis) und AbendmenÃ¼ mit GemÃ¼se- und Salatbuffet angeboten. \nhttps://www.excelsiorhotel.com/de-DE \n  \nKinderermÃ¤ÃŸigung (bei 2 Vollzahler im Zimmer):\n1 â€“ 2 Jahre 60 %\n3 â€“ 7 Jahre 50 %\n8 â€“ 13 Jahre 30 %\nab 14 Jahre 10 % \nStrandservice:\nAuf Anfrage / Vor Ort zu bezahlen: Zwei Sonnenliegen + 1 Sonnenschirm am Strand (Sa.â€“Fr./Zone 4) \nAufpreis/p. Woche + p. P.\nZimmer Komfort m. Meerblick / Zimmerwunsch 84\,â€“ â‚¬\nZimmer Relax (Familienzimmer) 42\,â€“ â‚¬\nZimmer Prestige 162\,â€“ â‚¬
URL:https://fichtenkamm.de/reise/sommerurlaub-an-der-adria-cesenatico-rimini-8/
CATEGORIES:Urlaubsreisen
END:VEVENT
END:VCALENDAR