BEGIN:VCALENDAR
VERSION:2.0
PRODID:-//Fichtenkamm Reisen - ECPv5.12.3//NONSGML v1.0//EN
CALSCALE:GREGORIAN
METHOD:PUBLISH
X-WR-CALNAME:Fichtenkamm Reisen
X-ORIGINAL-URL:https://fichtenkamm.de
X-WR-CALDESC:Veranstaltungen fÃ¼r Fichtenkamm Reisen
BEGIN:VTIMEZONE
TZID:Europe/Berlin
BEGIN:DAYLIGHT
TZOFFSETFROM:+0100
TZOFFSETTO:+0200
TZNAME:CEST
DTSTART:20230326T010000
END:DAYLIGHT
BEGIN:STANDARD
TZOFFSETFROM:+0200
TZOFFSETTO:+0100
TZNAME:CET
DTSTART:20231029T010000
END:STANDARD
END:VTIMEZONE
BEGIN:VEVENT
DTSTART;VALUE=DATE:20230623
DTEND;VALUE=DATE:20230904
DTSTAMP:20260423T131223
CREATED:20230222T155058Z
LAST-MODIFIED:20230222T155058Z
UID:13970-1687478400-1693785599@fichtenkamm.de
SUMMARY:Sommerurlaub an der Adria â€“ Cesenatico / Rimini
DESCRIPTION:Abfahrt: jeweils freitagabendsÂ  Â  Â RÃ¼ckkunft: jeweils sonntagmorgens \nEntspannen und genieÃŸen ist bei diesem Urlaub garantiert. Die KÃ¼ste rund um die Region Rimini bis nach Cesenatico ist ein wahres Wasser- und Badeparadies fÃ¼r Familien. Die Orte hier sind bekannt fÃ¼r ihre kilometerlangen feinsandigen\, flach ins Wasser abfallenden StrÃ¤nde. FÃ¼r den Adriaurlauber heiÃŸt das zunÃ¤chst einmal\, sich in der warmen Sonne\, im warmen Sand\, im warmen Meer aalen\, Leute kennen lernen\, tanzen\, spielen\, flanieren. Der schÃ¶ne Badeort Cesenatico liegt zwischen Ravenna und Rimini an der italienischen Adria. Die historische Altstadt mit ihrem malerischen Hafenkanal\, der von Leonardo da Vinci entworfen wurde\, hat ihren romantischen Charakter bis heute bewahrt. Ideale Urlaubsorte\, um in einem unserer langjÃ¤hrigen Familienhotels Ihren Urlaub zu verbringen! \n  \nHotel Colorado\nDas familiÃ¤r gefÃ¼hrte ****Hotel befindet sich in schÃ¶ner Lage\, direkt an der Strandpromenade und verfÃ¼gt Ã¼ber einen elegant gestalteten\, klimatisierten Speisesaal mit herrlicher Aussicht aufs Meer\, sowie Gartenterrasse\, Aufenthaltsraum\, Bar und einen 140 mÂ² groÃŸen Swimming-Pool mit Sprudelbad und Wasserrutsche im Kinderbecken. Ebenso verfÃ¼gt das Hotel Ã¼ber LeihfahrrÃ¤der. Die neu renovierten Zimmer sind alle mit Dusche\, WC\, FÃ¶n\, Telefon\, Safe\, TV\, KÃ¼hlschrank und Balkon mit Meerblick ausgestattet. Die ausgezeichnete landestypische KÃ¼che bietet Ihnen ein reichhaltiges FrÃ¼hstÃ¼cksbuffet\, sowie ein mehrgÃ¤ngiges Mittags- und AbendmenÃ¼ nach Wahl mit umfangreichem Salat- und Dessert-Buffet. Zudem findet regelmÃ¤ÃŸig ein Gala-Diner mit ausgesuchten SpezialitÃ¤ten der regionalen KÃ¼che statt\, wie auch romagnolische Feste mit Tanz und Livemusik im hoteleigenen Garten. \nVollpension\nMehrgÃ¤ngiges Mittag- und Abend-WahlmenÃ¼ mit Vorspeise- und Dessert-Buffet. \nKinderermÃ¤ÃŸigung (bei 2 Vollzahler im Zimmer):\n1 â€“ 2 JahreÂ Â  60 % \nÂ 3 â€“ 5 JahreÂ Â  50 % \nÂ 6 â€“ 10 Jahre 40 %\n11 â€“ 13 Jahre 30 %\nab 14 JahreÂ Â Â  10 % \nFamilienspecial\n50 % ErmÃ¤ÃŸigung fÃ¼r 2 Kinder bis 12 JahÂ­Â­Â­re im Elternzimmer \nStrandservice: 140\,â€“ â‚¬\nPro DZ/Woche erhalten Sie zwei SonÂ­nenÂ­liegen + 1 Sonnenschirm am Strand (Sa.â€“Fr./ab Reihe 7).\nZusÃ¤tzliche Liegen auf Anfrage.
URL:https://fichtenkamm.de/reise/sommerurlaub-an-der-adria-cesenatico-rimini-3/
CATEGORIES:Urlaubsreisen
END:VEVENT
END:VCALENDAR