BEGIN:VCALENDAR
VERSION:2.0
PRODID:-//Fichtenkamm Reisen - ECPv5.12.3//NONSGML v1.0//EN
CALSCALE:GREGORIAN
METHOD:PUBLISH
X-WR-CALNAME:Fichtenkamm Reisen
X-ORIGINAL-URL:https://fichtenkamm.de
X-WR-CALDESC:Veranstaltungen fÃ¼r Fichtenkamm Reisen
BEGIN:VTIMEZONE
TZID:Europe/Berlin
BEGIN:DAYLIGHT
TZOFFSETFROM:+0100
TZOFFSETTO:+0200
TZNAME:CEST
DTSTART:20250330T010000
END:DAYLIGHT
BEGIN:STANDARD
TZOFFSETFROM:+0200
TZOFFSETTO:+0100
TZNAME:CET
DTSTART:20251026T010000
END:STANDARD
BEGIN:DAYLIGHT
TZOFFSETFROM:+0100
TZOFFSETTO:+0200
TZNAME:CEST
DTSTART:20260329T010000
END:DAYLIGHT
BEGIN:STANDARD
TZOFFSETFROM:+0200
TZOFFSETTO:+0100
TZNAME:CET
DTSTART:20261025T010000
END:STANDARD
END:VTIMEZONE
BEGIN:VEVENT
DTSTART;VALUE=DATE:20251229
DTEND;VALUE=DATE:20260103
DTSTAMP:20260422T005327
CREATED:20250902T083752Z
LAST-MODIFIED:20250902T083752Z
UID:16083-1766966400-1767398399@fichtenkamm.de
SUMMARY:Silvesterzauber in Italien
DESCRIPTION:Erleben Sie den magischen Silvesterzauber in Italien! In den charmanten StÃ¤dten Parma\, Cremona und entlang der malerischen Via Emilia erwartet Sie eine festliche AtmosphÃ¤re voller Tradition\, kulinarischer GenÃ¼sse und italienischer Lebensfreude. Feiern Sie den Jahreswechsel bei festlichen Veranstaltungen\, genieÃŸen Sie kÃ¶stliche SpezialitÃ¤ten und stoÃŸen Sie mit einem Glas Sekt auf ein glÃ¼ckliches neues Jahr an. Tauchen Sie ein in die besondere Stimmung Italiens und starten Sie unvergesslich ins neue Jahr! \nÂ  \n 1. Tag:Â Â  Anreise  \nHeute beginnt Ihre Reise in die bezaubernde Region Emilia-Romagna\, nach Piacenza â€“ eine faszinierende Stadt mit Ã¼ber 2.000 Jahren Geschichte. Ihr komfortables ****-Hotel befindet sich direkt im Herzen des historischen Zentrums\, was den perfekten Ausgangspunkt fÃ¼r einen gemÃ¼tlichen Stadtbummel und erste Entdeckungen bietet. \n  \n 2. Tag: Â  Modena & Spilamberto \nModena\, die Stadt der Kunst\, der Motoren und des guten Geschmacks\, empfÃ¤ngt Sie heute mit Ihrem ganzen Charme. Nach der Besichtigung geht es weiter nach Spilamberto\, die Heimat des berÃ¼hmten Aceto Balsamico. Hierbei darf die Besichtigung einer traditionellen Produktion mit Kostprobe nicht fehlen. \n  \n 3. Tag:Â  Â  Parma & Jahresausklang \nHeute fÃ¼hrt Sie die Reise nach Parma\, eine charmante Stadt\, die wahre Gaumenfreuden bereithÃ¤lt. Hier kÃ¶nnen Sie Parmaschinken\, Parmesan\, eine Vielzahl kÃ¶stlicher Nudelsorten\, TrÃ¼ffel und das spritzige Lambrusco genieÃŸen â€“ ein Paradies fÃ¼r alle Feinschmecker! Erkunden Sie die malerische Altstadt\, die mit ihren kÃ¼nstlerischen Meisterwerken\, weitlÃ¤ufigen Parkanlagen und SchÃ¤tzen aus verschiedenen Epochen begeistert. \nAm frÃ¼hen Nachmittag besuchen Sie eine Prosciutteria\, wo Sie den berÃ¼hmten â€žProsciutto di Parmaâ€œ in Begleitung eines Glases Wein verkosten dÃ¼rfen â€“ ein Genuss fÃ¼r die Sinne! Am Abend erwartet Sie im Hotel eine festliche Silvesterfeier mit einem kÃ¶stlichen MenÃ¼\, inklusive Â¼ Wein\, Â½ Wasser und einem Glas Sekt zum AnstoÃŸen um Mitternacht. Ein unvergesslicher Abschluss fÃ¼r einen wundervollen Tag! \n  \n 4. Tag: Piacenza & Cremona \nNach einem entspannten NeujahrsfrÃ¼hstÃ¼ck entdecken Sie am Vormittag die faszinierende Stadt Piacenza. Am Nachmittag erwartet Sie die nahegelegene Musikstadt Cremona â€“ die Heimat des berÃ¼hmten Geigenbauers Stradivari. Die reiche Geschichte der Stadt spiegelt sich in ihren beeindruckenden Architektur-Meisterwerken wider und verzaubert jeden Besucher. NatÃ¼rlich dÃ¼rfen Sie hier auch eine Kostprobe des legendÃ¤ren â€žTorrone Classicoâ€œ genieÃŸen â€“ eine kÃ¶stliche NougatspezialitÃ¤t\, die Cremona zu einem unvergesslichen Geschmackserlebnis macht. \n  \n5. Tag: RÃ¼ckreise \nNach einem ausgiebigen leckeren FrÃ¼hstÃ¼ck treten Sie heute die Heimreise an und verlassen das kulturelle Herz Italiens mit vielen tollen Erinnerungen an eine unvergessliche Silvesterreise.
URL:https://fichtenkamm.de/reise/silvesterzauber-in-italien/
CATEGORIES:Winter- & Silvesterreisen
ATTACH;FMTTYPE=image/jpeg:https://fichtenkamm.de/wp-content/uploads/2025/07/AdobeStock_196058401_Piacenza.jpg
END:VEVENT
END:VCALENDAR