BEGIN:VCALENDAR
VERSION:2.0
PRODID:-//Fichtenkamm Reisen - ECPv5.12.3//NONSGML v1.0//EN
CALSCALE:GREGORIAN
METHOD:PUBLISH
X-WR-CALNAME:Fichtenkamm Reisen
X-ORIGINAL-URL:https://fichtenkamm.de
X-WR-CALDESC:Veranstaltungen fÃ¼r Fichtenkamm Reisen
BEGIN:VTIMEZONE
TZID:Europe/Berlin
BEGIN:DAYLIGHT
TZOFFSETFROM:+0100
TZOFFSETTO:+0200
TZNAME:CEST
DTSTART:20220327T010000
END:DAYLIGHT
BEGIN:STANDARD
TZOFFSETFROM:+0200
TZOFFSETTO:+0100
TZNAME:CET
DTSTART:20221030T010000
END:STANDARD
END:VTIMEZONE
BEGIN:VEVENT
DTSTART;VALUE=DATE:20220824
DTEND;VALUE=DATE:20220830
DTSTAMP:20260424T013725
CREATED:20220216T115045Z
LAST-MODIFIED:20220225T104448Z
UID:12479-1661299200-1661817599@fichtenkamm.de
SUMMARY:SchÃ¶nste Inseln der Ostsee
DESCRIPTION:Besuchen Sie mit uns die zwei sonnenverwÃ¶hnten Inseln RÃ¼gen und Usedom sowie die Halbinsel Fischland-DarÃŸ-Zingst. Kilometerlange\, traumhafte SandstrÃ¤nde und eine unberÃ¼hrte Natur erwartet Sie. Natur. RÃ¼gen ist die grÃ¶ÃŸte der drei Inseln und hat neben mondÃ¤nen SeebÃ¤dern wie Binz\, Sellin\, Baabe und GÃ¶hren auch noch eine beeindruckende KreidekÃ¼ste. Die Insel Usedom bietet verschiedenartige KÃ¼stenabschnitte. Die Halbinsel Fischland-DarÃŸ-Zingst lockt mit unberÃ¼hrter Natur. Nachdem Sie das Seebad Zingst erkundet haben\, unternehmen Sie noch eine Boddenschifffahrt von Wustrow nach Ribnitz. Dort\, im Flachwasser\, kÃ¶nnen Sie heimische Seevogelarten und ZugvÃ¶gel in ihrem Lebensraum beobachten. Mit etwas GlÃ¼ck sieht man Rohrweihen\, Seeadler oder auch Kegelrobben. \n  \n1. Tag: Anreise nach Greifswald \nHeute starten Sie Ihre Reise in die Hansestadt Greifswald. Die historische Altstadt ist geprÃ¤gt durch die bereits von weitem sichtbaren TÃ¼rme der drei Backsteinkirchen und wohlhabende BÃ¼rgerhÃ¤user mit sehenswerten Schaugiebeln. \n2. Tag:Â  Greifswald \nWandeln Sie bei einem gefÃ¼hrten Stadtrundgang durch die historische Altstadt von Greifswald\, mit ihren GiebelhÃ¤usern\, Backsteinkirchen und Wallanlagen. Die Spuren der mittelalterlichen Vergangenheit sind noch heute sichtbar. Was haben die ZisterziensermÃ¶nche mit der GrÃ¼ndung Greifswald zu tun? Wer oder was ist der Wendelstein? Die Antworten auf all diese und weitere Fragen kennt Ihr StadtfÃ¼hrer. \n3. Tag:Â  Insel Usedom\n \nMit Ihrem Reiseleiter geht esÂ  auf die Insel Usedom\, wo flache SandstrÃ¤nde locken. Erleben Sie die KaiserbÃ¤der Ahlbeck\, Heringsdorf und Bansin und bestaunen Sie die beeindruckende BÃ¤derarchitektur. Die HÃ¤user entlang der Promenade begeistern mit Balkonen\, Erkern und TÃ¼rmen. In Heringsdorf besuchen Sie eine Strandkorbmanufaktur. \n4. Tag:Â  RÃ¼gen\n \nRÃ¼gen ist mit 976 kmÂ² die grÃ¶ÃŸte Insel Deutschlands. An der 575 km langen KÃ¼ste wechseln sich Buchten und Bodden\, SteilhÃ¤nge und Flachstrand ab. Nationalparks und Naturschutzgebiete machen die Insel RÃ¼gen zu einem einzigartigen\, naturbelassenen Reservat und Lebensraum fÃ¼r Pflanzen und Tiere. Erleben Sie traumhafte Landschaften\, malerische Alleen\, sowie vertrÃ¤umte FischerdÃ¶rfer. \n5. Tag:Â  Seebad Zingst &#8211; Boddenschifffahrt\n \nErkunden Sie bei einem gefÃ¼hrten Spaziergang das Seebad Zingst. AnschlieÃŸend kÃ¶nnen Sie entspannt einen Bummel am Strand unternehmen. Lassen Sie sich den Wind um die Nase wehen und genieÃŸen Sie die salzige Luft der Ostsee. Am Nachmittag unternehmen Sie eine Schifffahrt durch die Vorpommersche Boddenlandschaft von Wustrow nach Ribnitz. \n6. Tag:Â  RÃ¼ckreise \nLeider heiÃŸt es heute Abschied nehmen von der Ostsee. \n  \nmax. 35 Reiseteilnehmer
URL:https://fichtenkamm.de/reise/schoenste-inseln-der-ostsee/
CATEGORIES:Genuss- & Erlebnisreisen,Urlaubsreisen
ATTACH;FMTTYPE=image/jpeg:https://fichtenkamm.de/wp-content/uploads/2022/02/211-Greifswald_Panorama-1.jpg
END:VEVENT
END:VCALENDAR