BEGIN:VCALENDAR
VERSION:2.0
PRODID:-//Fichtenkamm Reisen - ECPv5.12.3//NONSGML v1.0//EN
CALSCALE:GREGORIAN
METHOD:PUBLISH
X-WR-CALNAME:Fichtenkamm Reisen
X-ORIGINAL-URL:https://fichtenkamm.de
X-WR-CALDESC:Veranstaltungen fÃ¼r Fichtenkamm Reisen
BEGIN:VTIMEZONE
TZID:Europe/Berlin
BEGIN:DAYLIGHT
TZOFFSETFROM:+0100
TZOFFSETTO:+0200
TZNAME:CEST
DTSTART:20250330T010000
END:DAYLIGHT
BEGIN:STANDARD
TZOFFSETFROM:+0200
TZOFFSETTO:+0100
TZNAME:CET
DTSTART:20251026T010000
END:STANDARD
END:VTIMEZONE
BEGIN:VEVENT
DTSTART;VALUE=DATE:20250328
DTEND;VALUE=DATE:20250401
DTSTAMP:20260422T134502
CREATED:20241230T171422Z
LAST-MODIFIED:20250114T142936Z
UID:15201-1743120000-1743465599@fichtenkamm.de
SUMMARY:SchnÃ¤ppchen: Kurzurlaub im AllgÃ¤u & am Bodensee
DESCRIPTION:Begleiten Sie uns ins schÃ¶ne AllgÃ¤u und erleben Sie den Bodensee. Dieser verbindet vier Nationen: Deutschland\, die Schweiz\, Ã–sterreich und das FÃ¼rstentum Lichtenstein. WÃ¤hrend dieser Reise lernen Sie zahlreiche Highlights rund um den Bodensee kennen und erleben auf einer AllgÃ¤u-Rundfahrt die SchÃ¶nheiten dieser wunderbaren Region. \n  \n1. Tag: Anreise \nAm Morgen startet Ihre Reise und fÃ¼hrt Sie Ã¼ber Stuttgart nach Ulm. Hier lernen Sie bei einer FÃ¼hrung das liebevoll restaurierte Fischer- und Gerberviertel kennen. AnschlieÃŸend steht noch Zeit zur freien VerfÃ¼gung. Danach Weiterfahrt nach zu Ihrem Hotel. Am Abend werden Sie von der HotelkÃ¼che verwÃ¶hnt. \n  \n2. Tag: Lindau & St. Gallen \nNach dem FrÃ¼hstÃ¼ck steht fÃ¼r den heutigen Tag Lindau auf Ihrem Programm. Hier treffen Sie Ihre Reiseleitung. WÃ¤hrend Ihrer FÃ¼hrung sehen Sie nicht nur die bekannten Wahrzeichen\, wie die beiden LÃ¶wen und den Leuchtturm am Hafen\, sondern auch das Rathaus und den Marktplatz in der Altstadt. Ãœber Bregens geht es dann weiter in die Schweizer Metropole St. Gallen. Bei einem Rundgang durch die zauberhafte Altstadt kÃ¶nne Sie die Ausblicke auf die imposante\, barocke Kathedrale\, die zum Weltkulturerbe der UNESCO zÃ¤hlt\, genieÃŸen. Â Abendessen im Hotel. \n  \n3. Tag: AllgÃ¤u \nGestÃ¤rkt vom FrÃ¼hstÃ¼ck starten Sie heute zu einer Rundfahrt durch die einzigartige Region des AllgÃ¤us. GenieÃŸen Sie eine Panoramafahrt entlang der Deutschen AlpenstraÃŸe\, bei der eine grandiose Aussicht die nÃ¤chste ablÃ¶st. Die Strecke fÃ¼hrt vorbei an den Orten Oberstaufen und Immenstadt\, bevor es wieder zurÃ¼ck gehen wird. Auf der RÃ¼ckfahrt wird ein Stopp in Kempten eingelegt bevor Sie das Hotel erreichen. Abendessen im Hotel. \n  \n4. Tag: RÃ¼ckreise \nNach einem gemÃ¼tlichen FrÃ¼hstÃ¼ck startet Ihre RÃ¼ckreise Ã¼ber Memmingen. Nach einem Individuellen Aufenthalt treten Sie die Heimreise an. \n 
URL:https://fichtenkamm.de/reise/schnaeppchen-kurzurlaub-im-allgaeu-am-bodensee/
CATEGORIES:Genuss- & Erlebnisreisen,Urlaubsreisen
ATTACH;FMTTYPE=image/jpeg:https://fichtenkamm.de/wp-content/uploads/2024/04/3Fotolia_5688816_S_Bodensee.jpg
END:VEVENT
END:VCALENDAR