BEGIN:VCALENDAR
VERSION:2.0
PRODID:-//Fichtenkamm Reisen - ECPv5.12.3//NONSGML v1.0//EN
CALSCALE:GREGORIAN
METHOD:PUBLISH
X-WR-CALNAME:Fichtenkamm Reisen
X-ORIGINAL-URL:https://fichtenkamm.de
X-WR-CALDESC:Veranstaltungen für Fichtenkamm Reisen
BEGIN:VTIMEZONE
TZID:Europe/Berlin
BEGIN:DAYLIGHT
TZOFFSETFROM:+0100
TZOFFSETTO:+0200
TZNAME:CEST
DTSTART:20250330T010000
END:DAYLIGHT
BEGIN:STANDARD
TZOFFSETFROM:+0200
TZOFFSETTO:+0100
TZNAME:CET
DTSTART:20251026T010000
END:STANDARD
END:VTIMEZONE
BEGIN:VEVENT
DTSTART;VALUE=DATE:20250609
DTEND;VALUE=DATE:20250610
DTSTAMP:20260422T103710
CREATED:20250220T165022Z
LAST-MODIFIED:20250220T165022Z
UID:15399-1749427200-1749513599@fichtenkamm.de
SUMMARY:Schlemmer-Highlight im Schwarzwald
DESCRIPTION:Lassen Sie sich dieses Schlemmer-Highlight nicht entgehen! Begleitet von einem wunderschönen Bick über den Schwarzwald und einem Besuch in Freudenstadt können Sie diesen Tag in vollen Zügen genießen.
URL:https://fichtenkamm.de/reise/schlemmer-highlight-im-schwarzwald-2/
CATEGORIES:Tagesreisen
END:VEVENT
END:VCALENDAR