BEGIN:VCALENDAR
VERSION:2.0
PRODID:-//Fichtenkamm Reisen - ECPv5.12.3//NONSGML v1.0//EN
CALSCALE:GREGORIAN
METHOD:PUBLISH
X-WR-CALNAME:Fichtenkamm Reisen
X-ORIGINAL-URL:https://fichtenkamm.de
X-WR-CALDESC:Veranstaltungen für Fichtenkamm Reisen
BEGIN:VTIMEZONE
TZID:Europe/Berlin
BEGIN:DAYLIGHT
TZOFFSETFROM:+0100
TZOFFSETTO:+0200
TZNAME:CEST
DTSTART:20260329T010000
END:DAYLIGHT
BEGIN:STANDARD
TZOFFSETFROM:+0200
TZOFFSETTO:+0100
TZNAME:CET
DTSTART:20261025T010000
END:STANDARD
END:VTIMEZONE
BEGIN:VEVENT
DTSTART;VALUE=DATE:20261017
DTEND;VALUE=DATE:20261018
DTSTAMP:20260421T215553
CREATED:20260303T175636Z
LAST-MODIFIED:20260303T175636Z
UID:16575-1792195200-1792281599@fichtenkamm.de
SUMMARY:Schiffshebewerk Arzviller & Saverne
DESCRIPTION:Erst das Staunen\, dann das Genießen: Per Schiff überwinden wir den spektakulären Schrägaufzug und passieren eine traditionelle Schleuse. Danach geht es weiter in das charmante Städtchen Saverne. Dort gehört der Rest des Tages Ihnen! Ob ein Besuch im botanischen Garten oder ein gemütlicher Flammkuchen in der Altstadt – lassen Sie die Seele baumeln.
URL:https://fichtenkamm.de/reise/schiffshebewerk-arzviller-saverne-2/
CATEGORIES:Tagesreisen
END:VEVENT
END:VCALENDAR