BEGIN:VCALENDAR
VERSION:2.0
PRODID:-//Fichtenkamm Reisen - ECPv5.12.3//NONSGML v1.0//EN
CALSCALE:GREGORIAN
METHOD:PUBLISH
X-WR-CALNAME:Fichtenkamm Reisen
X-ORIGINAL-URL:https://fichtenkamm.de
X-WR-CALDESC:Veranstaltungen für Fichtenkamm Reisen
BEGIN:VTIMEZONE
TZID:Europe/Berlin
BEGIN:DAYLIGHT
TZOFFSETFROM:+0100
TZOFFSETTO:+0200
TZNAME:CEST
DTSTART:20250330T010000
END:DAYLIGHT
BEGIN:STANDARD
TZOFFSETFROM:+0200
TZOFFSETTO:+0100
TZNAME:CET
DTSTART:20251026T010000
END:STANDARD
END:VTIMEZONE
BEGIN:VEVENT
DTSTART;VALUE=DATE:20250705
DTEND;VALUE=DATE:20250706
DTSTAMP:20260422T101645
CREATED:20250205T163935Z
LAST-MODIFIED:20250206T135000Z
UID:15359-1751673600-1751759999@fichtenkamm.de
SUMMARY:Schifffahrt mit Pfiff... - Breisach & Freiburg
DESCRIPTION:Genießen Sie eine gemütlichen Schifffahrt auf dem Rhein ab Breisach und schlemmen Sie an Bord beim Buffet rund um den Pfifferling nach Herzenslust. Im Anschluß geht es weiter nach Freiburg. Bei einem Bummel durch die schöne Altstadt bietet sich die Gelegenheit zu einer Pause in einem der zahlreichen Cafés.
URL:https://fichtenkamm.de/reise/schifffahrt-mit-pfiff-breisach-freiburg/
CATEGORIES:Tagesreisen
ATTACH;FMTTYPE=image/jpeg:https://fichtenkamm.de/wp-content/uploads/2021/01/93IMG_6107.jpg
END:VEVENT
END:VCALENDAR