BEGIN:VCALENDAR
VERSION:2.0
PRODID:-//Fichtenkamm Reisen - ECPv5.12.3//NONSGML v1.0//EN
CALSCALE:GREGORIAN
METHOD:PUBLISH
X-WR-CALNAME:Fichtenkamm Reisen
X-ORIGINAL-URL:https://fichtenkamm.de
X-WR-CALDESC:Veranstaltungen fÃ¼r Fichtenkamm Reisen
BEGIN:VTIMEZONE
TZID:Europe/Berlin
BEGIN:DAYLIGHT
TZOFFSETFROM:+0100
TZOFFSETTO:+0200
TZNAME:CEST
DTSTART:20230326T010000
END:DAYLIGHT
BEGIN:STANDARD
TZOFFSETFROM:+0200
TZOFFSETTO:+0100
TZNAME:CET
DTSTART:20231029T010000
END:STANDARD
END:VTIMEZONE
BEGIN:VEVENT
DTSTART;VALUE=DATE:20230323
DTEND;VALUE=DATE:20230329
DTSTAMP:20260423T175252
CREATED:20230117T151847Z
LAST-MODIFIED:20230213T165652Z
UID:13485-1679529600-1680047999@fichtenkamm.de
SUMMARY:SaisonerÃ¶ffnungsreise: Der Sonne entgegen
DESCRIPTION:Starten Sie mit uns die Reisesaison der Sonne entgegen. Wenn Italien aus dem Winterschlaf erwacht\, entfalten in der Toskana die wunderschÃ¶nen Kamelien ihre volle Farbenpracht. Jedes Jahr wird Ende MÃ¤rz in Santâ€™Andrea di Compito das beliebte KamelienblÃ¼tenfest gefeiert. Ãœberall werden die GÃ¤rten imposanter Villen geÃ¶ffnet und lassen sich von deren Besuchern bestaunen. Freuen Sie sich auf einen schÃ¶nen FrÃ¼hlingsanfang. \n  \n1. Tag:Â  Â Anreise \nAnreise durch die Schweiz zu Ihrem schÃ¶nen 4*-Hotel im Herzen der Toskana. \n  \n2. Tag:Â  Pisa &#8211; Lari  \nHeute besuchen Sie das kleine toskanische DÃ¶rfchen Lari\, das sich rund um die im Zentrum befindliche Burg anschmiegt. Der schÃ¶ne Ort mit seiner historischer AtmosphÃ¤re ist durch die â€žkleinsten Nudelfabrik der Weltâ€œ der BrÃ¼der Martinelli berÃ¼hmt. Entdecken Sie\, wie die Pasta im kleinen Traditionsbetrieb noch mit der Hand hergestellt wird. AbschlieÃŸend kommen Sie noch in den Genuss einer KirschlikÃ¶rprobe\, da Lari auch durch seinen Kirschanbau bekannt ist. Den Nachmittag verbringen Sie in Pisa mit dem weltberÃ¼hmten Wahrzeichen\, den Schiefen Turm auf der Piazza dei Miracoli. \n  \n3. Tag:Â Â  Kamelien & Villen \nFreuen Sie sich auf die Kamelienpracht in den toskanischen GÃ¤rten. Im Bergdorf Sant&#8217;Andrea di Compito wachsen die Ã¤ltesten Kamelien Italiens\, welche alljÃ¤hrlich in einer beeindruckenden Ausstellung prÃ¤sentiert werden. Der Besuch wird Sie beeindrucken. Bei einem Spaziergang kÃ¶nnen Sie im Anschluss den uralten Garten der Villa Orsi mit deren von BlÃ¼ten Ã¼bersÃ¤ten\, riesigen KamelienbÃ¤umen entdecken. \nÂ  \n4. Tag:Â  Â San Miniato & Vinci \nDas schmucke StÃ¤dtchen San Miniato\, welches fÃ¼r seine erlesenen weiÃŸe TrÃ¼ffel berÃ¼hmt ist\, wartet darauf von Ihnen entdeckt zu werden. Erleben Sie bei einem Rundgang den mittelalterlichen Ort mit seinem antiken â€žPalazzo Comunaleâ€œ und genieÃŸen von der Burg aus das herrlichen Panorama. Nachmittags begeben Sie sich auf die Spuren von Leonardo da Vinci. Sie besuchen den Geburtsort des wohl berÃ¼hmtesten Landsmannes der Toskana und entdecken bei einem Spaziergang die typischen GÃ¤sschen in Vinci. \nÂ  \n5. Tag:Â  Â Freizeit \nAm heutigen Tag ist Erholung angesagt. Lassen Sie die Seele baumeln und genieÃŸen Ihr Urlaubsdomizil. \nÂ Â Â Â Â Â Â Â Â Â Â Â Â Â Â Â Â Â Â Â Â Â Â   \n6. Tag:Â  RÃ¼ckreise \nLeider heiÃŸt es heute schon wieder Abschied nehmen von der Toskana.
URL:https://fichtenkamm.de/reise/saisoneroeffnungsreise-der-sonne-entgegen/
CATEGORIES:Genuss- & Erlebnisreisen,Hervorgehobene Reisen
ATTACH;FMTTYPE=image/jpeg:https://fichtenkamm.de/wp-content/uploads/2022/02/3Fotolia_7423256_GruenHuegel.jpg
END:VEVENT
END:VCALENDAR