BEGIN:VCALENDAR
VERSION:2.0
PRODID:-//Fichtenkamm Reisen - ECPv5.12.3//NONSGML v1.0//EN
CALSCALE:GREGORIAN
METHOD:PUBLISH
X-WR-CALNAME:Fichtenkamm Reisen
X-ORIGINAL-URL:https://fichtenkamm.de
X-WR-CALDESC:Veranstaltungen fÃ¼r Fichtenkamm Reisen
BEGIN:VTIMEZONE
TZID:Europe/Berlin
BEGIN:DAYLIGHT
TZOFFSETFROM:+0100
TZOFFSETTO:+0200
TZNAME:CEST
DTSTART:20230326T010000
END:DAYLIGHT
BEGIN:STANDARD
TZOFFSETFROM:+0200
TZOFFSETTO:+0100
TZNAME:CET
DTSTART:20231029T010000
END:STANDARD
END:VTIMEZONE
BEGIN:VEVENT
DTSTART;VALUE=DATE:20230321
DTEND;VALUE=DATE:20230326
DTSTAMP:20260423T180723
CREATED:20230112T125339Z
LAST-MODIFIED:20230213T163540Z
UID:13487-1679356800-1679788799@fichtenkamm.de
SUMMARY:SaisonerÃ¶ffnung am Lago di Garda
DESCRIPTION:Lassen Sie sich zur ErÃ¶ffnung der Reisesaison entfÃ¼hren und genieÃŸen Sie den FrÃ¼hling am Gardasee. Der beliebten Ferienort Bardolino am grÃ¶ÃŸten und schÃ¶nsten See Italiens wartet darauf von Ihnen entdeckt zu werden. Hier zeigt sich die Vegetation in wunderbarer weiÃŸe. Mediterranes Klima und das alpenlÃ¤ndische Ambiente geschmÃ¼ckt mit Olivenhainen\, Palmen und Zitronenplantagen machen diese Region so einzigartig.Â  Tauchen Sie ein in die malerische Landschaft Rund um MalcesineÂ  bis hin nach Verona und genieÃŸen Sie La Dolce Vita pur. \n1.Tag:Â Â Anreise \nAnreise Ã¼ber den Brennerpass &#8211; an Rovereto vorbei nach Bardolino am Gardasee. Hier wohnen Sie in einem renommierten 4*-Hotel direkt an der Seepromenade. \n  \n2.Tag:Â  Gardasee Rundfahrt \nErleben Sie heute wÃ¤hrend Ihrer Fahrt entlang des Gardasees hÃ¼bsche StÃ¤dtchen und einen stÃ¤ndig wechselnden Panoramablick Ã¼ber den tiefblauen See\, wenn es durch die Tunnels und prÃ¤chtige Galerien geht. Ein Stopp in den idyllischen Ortschaften Garda\, dem Namensgeber des Sees\, Malcesine mit seiner Skaligerburg und Riva del Garda darf natÃ¼rlich nicht fehlen. \n  \n3.Tag:Â Â  Verona & Sirmione\n \nFrÃ¼h beginnt der Ihr gefÃ¼hrter Ausflug nach Verona\, der Stadt von Romeo und Julia. Sehenswert ist hier vor allem die Piazza Bra mit ihrer berÃ¼hmten â€žArena di Veronaâ€œ. Nach einer individuellen Stadtbesichtigung werden Sie auf der RÃ¼ckfahrt einen Zwischenstopp im idyllischen Thermalkurort Sirmione einlegen\, eine Perle am sÃ¼dlichen Seeufer! Ein breiter Wassergraben trennt die Altstadt vom Festland\, das hier schmalÂ und lang vier Kilometer in den Gardasee ragt. GenieÃŸen Sie den Nachmittag bei einem Cappuccino und lassen sich vom bunten Treiben inspirieren! RÃ¼ckfahrt mit dem Schiff nach Bardolino. \n  \n4.Tag:Â Â  Freizeit & Weinprobe \nNach einem gemÃ¼tlichen FrÃ¼hstÃ¼ck steht der Vormittag zur freien VerfÃ¼gung. Gelegenheit zu einem Bummel entlang der Promenade. Am Nachmittag laden wir Sie zu einer typischen Weinprobe und kleinem ImbissÂ  im Raum Bardolino ein. \n  \n5.Tag:Â  Â RÃ¼ckreise \nArrivederci Lago di Garda! Heute heiÃŸt es leider schon wieder Abschied nehmen. \n 
URL:https://fichtenkamm.de/reise/saisoneroeffnung-am-lago-di-garda/
CATEGORIES:Genuss- & Erlebnisreisen,Hervorgehobene Reisen
END:VEVENT
END:VCALENDAR