BEGIN:VCALENDAR
VERSION:2.0
PRODID:-//Fichtenkamm Reisen - ECPv5.12.3//NONSGML v1.0//EN
CALSCALE:GREGORIAN
METHOD:PUBLISH
X-WR-CALNAME:Fichtenkamm Reisen
X-ORIGINAL-URL:https://fichtenkamm.de
X-WR-CALDESC:Veranstaltungen fÃ¼r Fichtenkamm Reisen
BEGIN:VTIMEZONE
TZID:Europe/Berlin
BEGIN:DAYLIGHT
TZOFFSETFROM:+0100
TZOFFSETTO:+0200
TZNAME:CEST
DTSTART:20250330T010000
END:DAYLIGHT
BEGIN:STANDARD
TZOFFSETFROM:+0200
TZOFFSETTO:+0100
TZNAME:CET
DTSTART:20251026T010000
END:STANDARD
END:VTIMEZONE
BEGIN:VEVENT
DTSTART;VALUE=DATE:20251022
DTEND;VALUE=DATE:20251027
DTSTAMP:20260421T174646
CREATED:20250624T131924Z
LAST-MODIFIED:20251215T111434Z
UID:15874-1761091200-1761523199@fichtenkamm.de
SUMMARY:Saisonabschluss am Gardasee
DESCRIPTION:Zum Ende der Reisesaison halten wir fÃ¼r Sie ein Erlebnis der besonderen Art als DankeschÃ¶n fÃ¼r Ihre Treue und Reisefreudigkeit bereit. Begleiten Sie uns zu einer Reise\, bei der herrliche Landschaften\, tiefblaues Wasser und eine imposante Bergwelt mit mediterranem Flair im Fokus stehen \nÂ  \nBenvenuti â€“ heiÃŸt es am grÃ¶ÃŸten See Italiens. Hier werden Sie im beliebten Urlaubsort Malcesine am FuÃŸe des Monte Baldo wohnen. Das malerische Ortsbild wird von einer mÃ¤chtigen Skaligerburg dominiert\, die Ã¼ber dem mittelalterlichen Ortskern mit kleinen PlÃ¤tzen\, Ã¼berwÃ¶lbten DurchgÃ¤ngen und holprigen Pflasterwegen\, thront. \nWieder einmal mÃ¶chten wir Sie mit unserem Programm bis zum Anreisetag auf die Folter spannen und Ihre Reisefreude herauskitzeln. Eines kÃ¶nnen wir jedoch sagen\, dass wir Ihnen die wunderschÃ¶nsten Orte und die traumhaften Landschaften des Gardasees zeigen werden. Seien Sie gespannt und freuen Sie sich auf ein abwechslungsreiches Programm\, bei dem natÃ¼rlich eine Weinprobe nicht fehlen darf. \nAm Ende Ihrer eindrucksvollen TagesausflÃ¼ge genieÃŸen Sie den Abend in Ihrem wunderbaren Hotel\, eingebettet in eine einzigartige Landschaft\, inmitten der Olivenhaine. Lassen Sie sich von der leckeren italienischen KÃ¼che verzaubern. Seien Sie Gast unserer Reise-Familie und erleben Sie mit uns entspannte und abwechslungsreiche Tage in charmanter AtmosphÃ¤re.\n \n  \n 
URL:https://fichtenkamm.de/reise/saisonabschluss-am-gardasee/
CATEGORIES:Genuss- & Erlebnisreisen,Hervorgehobene Reisen
END:VEVENT
END:VCALENDAR