BEGIN:VCALENDAR
VERSION:2.0
PRODID:-//Fichtenkamm Reisen - ECPv5.12.3//NONSGML v1.0//EN
CALSCALE:GREGORIAN
METHOD:PUBLISH
X-WR-CALNAME:Fichtenkamm Reisen
X-ORIGINAL-URL:https://fichtenkamm.de
X-WR-CALDESC:Veranstaltungen für Fichtenkamm Reisen
BEGIN:VTIMEZONE
TZID:Europe/Berlin
BEGIN:DAYLIGHT
TZOFFSETFROM:+0100
TZOFFSETTO:+0200
TZNAME:CEST
DTSTART:20250330T010000
END:DAYLIGHT
BEGIN:STANDARD
TZOFFSETFROM:+0200
TZOFFSETTO:+0100
TZNAME:CET
DTSTART:20251026T010000
END:STANDARD
END:VTIMEZONE
BEGIN:VEVENT
DTSTART;VALUE=DATE:20250719
DTEND;VALUE=DATE:20250720
DTSTAMP:20260422T084700
CREATED:20250319T100908Z
LAST-MODIFIED:20250319T100920Z
UID:15819-1752883200-1752969599@fichtenkamm.de
SUMMARY:Rothaus Erlebnis
DESCRIPTION:Freuen Sie sich auf einen schönen Tag in Freiburg und im Hochschwarzwald. Schauen Sie hinter die Kulissen der Traditionsbrauerei Rothaus\, die auf 1.000 Metern Höhe im schönen Hochschwarzwald liegt. Staunen und genießen lautet die Devise der ca. 90-minütigen Brauereibesichtigung. Sie kehren im Brauereigasthof zu einem zünftigen Mittagessen ein. Bestaunen Sie das Panorama des Hochschwarzwaldes mit dem Rothaus Express\, der Sie zum Schluchsee bringt. Hier erleben Sie eine Seerundfahrt auf der MS Schluchsee.
URL:https://fichtenkamm.de/reise/rothaus-erlebnis-2/
CATEGORIES:Tagesreisen
ATTACH;FMTTYPE=image/jpeg:https://fichtenkamm.de/wp-content/uploads/2020/02/Tagesfahrten-Freiburg.jpg
END:VEVENT
END:VCALENDAR