BEGIN:VCALENDAR
VERSION:2.0
PRODID:-//Fichtenkamm Reisen - ECPv5.12.3//NONSGML v1.0//EN
CALSCALE:GREGORIAN
METHOD:PUBLISH
X-WR-CALNAME:Fichtenkamm Reisen
X-ORIGINAL-URL:https://fichtenkamm.de
X-WR-CALDESC:Veranstaltungen für Fichtenkamm Reisen
BEGIN:VTIMEZONE
TZID:Europe/Berlin
BEGIN:DAYLIGHT
TZOFFSETFROM:+0100
TZOFFSETTO:+0200
TZNAME:CEST
DTSTART:20260329T010000
END:DAYLIGHT
BEGIN:STANDARD
TZOFFSETFROM:+0200
TZOFFSETTO:+0100
TZNAME:CET
DTSTART:20261025T010000
END:STANDARD
END:VTIMEZONE
BEGIN:VEVENT
DTSTART;VALUE=DATE:20260905
DTEND;VALUE=DATE:20260906
DTSTAMP:20260421T232716
CREATED:20260303T160958Z
LAST-MODIFIED:20260303T160958Z
UID:16561-1788566400-1788652799@fichtenkamm.de
SUMMARY:Rheinfall Schaffhausen & Konstanz
DESCRIPTION:Der Rheinfall in Schaffhausen in der Schweiz ist einer der größten Wasserfälle Europas. Von der Aussichtsplattform können Sie das imposante Naturschauspiel bewundern. Danach geht es weiter nach Konstanz. Hier steht Ihnen noch Zeit zur freien Verfügung\, um die größte Stadt und das pulsierendes Zentrum der Vierländerregion Bodensee auf eigene Faust zu erkunden.
URL:https://fichtenkamm.de/reise/rheinfall-schaffhausen-konstanz-8/
CATEGORIES:Tagesreisen
ATTACH;FMTTYPE=image/jpeg:https://fichtenkamm.de/wp-content/uploads/2023/03/145_Ivo-Scholzrheinfall-sommer-schlosslaufen.jpg
END:VEVENT
END:VCALENDAR