BEGIN:VCALENDAR
VERSION:2.0
PRODID:-//Fichtenkamm Reisen - ECPv5.12.3//NONSGML v1.0//EN
CALSCALE:GREGORIAN
METHOD:PUBLISH
X-WR-CALNAME:Fichtenkamm Reisen
X-ORIGINAL-URL:https://fichtenkamm.de
X-WR-CALDESC:Veranstaltungen fÃ¼r Fichtenkamm Reisen
BEGIN:VTIMEZONE
TZID:Europe/Berlin
BEGIN:DAYLIGHT
TZOFFSETFROM:+0100
TZOFFSETTO:+0200
TZNAME:CEST
DTSTART:20250330T010000
END:DAYLIGHT
BEGIN:STANDARD
TZOFFSETFROM:+0200
TZOFFSETTO:+0100
TZNAME:CET
DTSTART:20251026T010000
END:STANDARD
END:VTIMEZONE
BEGIN:VEVENT
DTSTART;VALUE=DATE:20250601
DTEND;VALUE=DATE:20250605
DTSTAMP:20260422T102841
CREATED:20250106T154313Z
LAST-MODIFIED:20250115T162745Z
UID:15262-1748736000-1749081599@fichtenkamm.de
SUMMARY:Pitztaler Bergwelt
DESCRIPTION:Eingebettet in eine beeindruckende Berglandschaft\, erwartet Sie im Pitztal ein unvergleichliches StÃ¼ck Natur: samtgrÃ¼ne WÃ¤lder\, schroffe Felsen und glasklare BÃ¤che im Sommer\, glitzernde SchneehÃ¤nge vor stahlblauem Himmel im Winter. GeschÃ¼tzt von den Bergen\, lÃ¤sst das milde Alpenklima Blumen\, Wiesen und Obst gedeihen. Pitztal ist ein Tal\, wo die Natur den Menschen prÃ¤gt. Ein Ausflug in die herrliche Alpenstadt Innsbruck rundet diese Reise ins Pitztal ab. Lassen Sie sich Ã¼berraschen.\n \n  \n1. Tag:Â  Anreise\n \nAnreise Ã¼ber Stuttgart â€“ Ulm â€“ Kempten nach Arzl im Pitztal. Hier erwartet Sie Ihr schÃ¶nes 4*-Hotel. Nach dem Abendessen kÃ¶nnen Sie den Tag gemÃ¼tlich ausklingen lassen. \n  \n2. Tag:Â  Pitztal\n \nAuf gehtâ€™s ins Pitztal â€“ nach einer OrtsfÃ¼hrung und Besichtigung der Benni Raich BrÃ¼cke fahren Sie hinein ins Pitztal. Fast 40 Kilometer weit lÃ¤uft das Tal strikt auf die mÃ¤chtige Wildspitze zu. MajestÃ¤tische Gletscher\, saftige Almwiesen\, schÃ¶ne WasserfÃ¤lle und glasklare Bergseen prÃ¤gen das Landschaftsbild. GenieÃŸen Sie traumhafte Aussichten\, atmen Sie die frische Bergluft tief ein und lassen Sie sich von der alpinen SchÃ¶nheit verzaubern. \n  \n3. Tag:Â  Innsbruck & BrauKunstHaus\n \nHeute erwartet Sie Alpenstadt Innsbruck auf dem Programm. Sie ist nicht nur die Hauptstadt Tirols\, sondern auch eine der schÃ¶nsten StÃ¤dte\, umgeben von majestÃ¤tischen Alpengipfeln. Die historische Altstadt versprÃ¼ht ein besonderes Flair und begeistert mit SehenswÃ¼rdigkeiten. AnschlieÃŸend erleben Sie ein Genuss im BrauKunstHaus von Zillertal Bier in Zell am Ziller. Ein Tag im Zeichen der Braukunst â€“von den SchÃ¤tzen der Natur â€“Ã¼ber die Verwandlung bis hin zur Verkostung. \n  \n4. Tag:Â  RÃ¼ckreise \nLeider heiÃŸt es heute Abschied vom Pitztal nehmen. Mit schÃ¶nen Erinnerungen geht es wieder Richtung Heimat.
URL:https://fichtenkamm.de/reise/pitztaler-bergwelt/
CATEGORIES:Genuss- & Erlebnisreisen,Kurzreisen
ATTACH;FMTTYPE=image/jpeg:https://fichtenkamm.de/wp-content/uploads/2021/01/3Fotolia_25315438_S_Kaunertal.jpg
END:VEVENT
END:VCALENDAR