BEGIN:VCALENDAR
VERSION:2.0
PRODID:-//Fichtenkamm Reisen - ECPv5.12.3//NONSGML v1.0//EN
CALSCALE:GREGORIAN
METHOD:PUBLISH
X-WR-CALNAME:Fichtenkamm Reisen
X-ORIGINAL-URL:https://fichtenkamm.de
X-WR-CALDESC:Veranstaltungen für Fichtenkamm Reisen
BEGIN:VTIMEZONE
TZID:Europe/Berlin
BEGIN:DAYLIGHT
TZOFFSETFROM:+0100
TZOFFSETTO:+0200
TZNAME:CEST
DTSTART:20230326T010000
END:DAYLIGHT
BEGIN:STANDARD
TZOFFSETFROM:+0200
TZOFFSETTO:+0100
TZNAME:CET
DTSTART:20231029T010000
END:STANDARD
END:VTIMEZONE
BEGIN:VEVENT
DTSTART;VALUE=DATE:20230216
DTEND;VALUE=DATE:20230217
DTSTAMP:20260423T182133
CREATED:20230216T160644Z
LAST-MODIFIED:20230216T160644Z
UID:13935-1676505600-1676591999@fichtenkamm.de
SUMMARY:Ostermarkt St. Wendel
DESCRIPTION:Begleiten Sie uns am verkaufsoffenen Sonntag zum St. Wendeler Ostermarkt rund um den Dom\, wo Sie das klingende Hasendorf und die prächtige bunte Osterkrone bestaunen können.
URL:https://fichtenkamm.de/reise/ostermarkt-st-wendel/
CATEGORIES:Tagesreisen
ATTACH;FMTTYPE=image/jpeg:https://fichtenkamm.de/wp-content/uploads/2021/01/93Ostern.jpg
END:VEVENT
END:VCALENDAR