BEGIN:VCALENDAR
VERSION:2.0
PRODID:-//Fichtenkamm Reisen - ECPv5.12.3//NONSGML v1.0//EN
CALSCALE:GREGORIAN
METHOD:PUBLISH
X-WR-CALNAME:Fichtenkamm Reisen
X-ORIGINAL-URL:https://fichtenkamm.de
X-WR-CALDESC:Veranstaltungen fÃ¼r Fichtenkamm Reisen
BEGIN:VTIMEZONE
TZID:Europe/Berlin
BEGIN:DAYLIGHT
TZOFFSETFROM:+0100
TZOFFSETTO:+0200
TZNAME:CEST
DTSTART:20230326T010000
END:DAYLIGHT
BEGIN:STANDARD
TZOFFSETFROM:+0200
TZOFFSETTO:+0100
TZNAME:CET
DTSTART:20231029T010000
END:STANDARD
END:VTIMEZONE
BEGIN:VEVENT
DTSTART;VALUE=DATE:20230603
DTEND;VALUE=DATE:20230609
DTSTAMP:20260423T175919
CREATED:20230127T181701Z
LAST-MODIFIED:20230213T180000Z
UID:13727-1685750400-1686268799@fichtenkamm.de
SUMMARY:Ossiacher See: Magie der Kontraste
DESCRIPTION:Im Herzen KÃ¤rntens direkt am Ufer des Ossiacher Sees und am FuÃŸe der fast 2.000 Meter hohen Gerlitze dÃ¼rfen Sie sich auf entspannte Urlaubstage freuen. Auf der Sonnenseite\, dem sÃ¼dlichsten Bundesland Ã–sterreichs befindet sich der See und ist somit eines der beliebtesten Reiseziele Europas. Kein Wunder\, denn dank dem herrlichen Bergpanorama\, dem mediterranen Flair und der Vielseitigkeit wird diese Region am drittgrÃ¶ÃŸten See KÃ¤rntens zu etwas Besonderem. Der Reiz der Kontraste der lebendigen Stadt Villach\, sowie dem kulinarischen Friaul bieten Ihnen unvergessliche Urlaubsmomente. \n  \n1. Tag: Anreise \nAnreise Ã¼ber MÃ¼nchen an Villach vorbei zu Ihrem schÃ¶nen 4*-Hotel in St. Urban direkt am See. \n  \n2. Tag:Â  Villach \nEntdecken Sie mit Ihrem Reiseleiter die Alpen Adria Region Villach â€“ das Tor in den SÃ¼den. ZunÃ¤chst erkunden Sie den Ossiacher See und besichtigen die Stiftskirche Ossiach\, ein barockes Juwel. Danach Weiterfahrt zum Faaker See und am Nachmittag besuchen Sie die lebendige Stadt Villach. RÃ¼ckfahrt Ã¼ber die PanoramastraÃŸe\, die Ihnen einen eindrucksvollen Ausblick auf die umliegende Bergwelt bietet. \n  \n3. Tag:Â  Ossiacher See \nMit dem Schiff werden Sie heute den See zwischen Burg Landskron und dem Stift Ossiach erkunden. Nachmittags haben Sie Gelegenheit die Burgruine Landskron mit Adlerwarte zu besuchen. \n  \n4. Tag:Â  Julisch Venetien \nFreuen Sie sich auf die Stadt mit der Ã¤ltesten Bibliothek des Friauls. San Daniele\, die Stadt\, die auch als kulinarischer Botschafter dieser Region gilt und weltweit berÃ¼hmt ist fÃ¼r ihren besonderen Schinken. GenieÃŸen Sie die Fahrt durch das landschaftlich reizvolle Kanaltal\, eingebettet zwischen den Julischen und Karnischen Alpen und erkunden Sie das malerische StÃ¤dtchen Spilimbergo mit der dort ansÃ¤ssigen Mosaikschule. Eine Wein- und Schinkenverkostung darf am heutigen Tag natÃ¼rlich nicht fehlen. \n  \n5. Tag:Â  Nockberge \nEine herrliche Panoramarundfahrt Ã¼ber die wohl schÃ¶nste AlpenstraÃŸe erwartet Sie. Die NockalmstraÃŸe fÃ¼hrt Sie heute in den Nationalpark der Nockberge. In einer HÃ¶he von Ã¼ber 2000 m bietet sich eine einzigartige Gebirgslandschaft\, wo eine Einkehr in eine urige Alm sowie eine kleine Wanderung um einen idyllischen Bergsee zu empfehlen ist. \n  \n6. Tag: RÃ¼ckreise \nNach dem FrÃ¼hstÃ¼ck heiÃŸt es leider schon wieder Abschied nehmen vom Ossiacher See. \n 
URL:https://fichtenkamm.de/reise/ossiacher-see-magie-der-kontraste/
CATEGORIES:Genuss- & Erlebnisreisen,StÃ¤dtereisen,Urlaubsreisen
END:VEVENT
END:VCALENDAR