BEGIN:VCALENDAR
VERSION:2.0
PRODID:-//Fichtenkamm Reisen - ECPv5.12.3//NONSGML v1.0//EN
CALSCALE:GREGORIAN
METHOD:PUBLISH
X-WR-CALNAME:Fichtenkamm Reisen
X-ORIGINAL-URL:https://fichtenkamm.de
X-WR-CALDESC:Veranstaltungen fÃ¼r Fichtenkamm Reisen
BEGIN:VTIMEZONE
TZID:Europe/Berlin
BEGIN:DAYLIGHT
TZOFFSETFROM:+0100
TZOFFSETTO:+0200
TZNAME:CEST
DTSTART:20230326T010000
END:DAYLIGHT
BEGIN:STANDARD
TZOFFSETFROM:+0200
TZOFFSETTO:+0100
TZNAME:CET
DTSTART:20231029T010000
END:STANDARD
END:VTIMEZONE
BEGIN:VEVENT
DTSTART;VALUE=DATE:20230630
DTEND;VALUE=DATE:20230705
DTSTAMP:20260423T131133
CREATED:20230117T161354Z
LAST-MODIFIED:20230213T180605Z
UID:13585-1688083200-1688515199@fichtenkamm.de
SUMMARY:Nordsee - die friesische Karibik
DESCRIPTION:Willkommen in der Welt der friesischen Inseln und der Halligen! Werden Sie â€žSychtigâ€œ auf die friesische Karibik inmitten des Nationalparks Schleswig-Holsteinisches Wattenmeer. Die Kombination dieser Reise ist vielversprechend und bietet Ihnen einen reizvollen Kontrast. Auf der einen Seite erleben Sie eine herrliche Naturlandschaft: das stille Wattenmeer\, die kraftvolle Nordseebrandung\, Strand und Meer\, soweit das Auge reicht. Auf der anderen Seite Sylt &#8211; die Insel der SchÃ¶nen und Reichen: mondÃ¤n\, aber auch idyllisch und ursprÃ¼nglich. GenieÃŸen Sie nordfriesisches Flair bei Ebbe und Flut. \nÂ  \n 1. Tag:Â  Anreise \nAnreise Ã¼ber das bekannte HollÃ¤nderstÃ¤dtchen Friedrichstadt\, wo Sie bei einer Bootsfahrt durch die Grachten den bezaubernden Ort bestaunen kÃ¶nnen. Danach weiterfahrt an die WestkÃ¼ste zum Hotel. \n  \n 2. Tag:Â  Amrum \nStarten Sie zu einem abwechslungsreichen Ausflug. Mit der FÃ¤hre setzen Sie Ã¼ber auf die Insel Amrum. Freuen Sie sich auf eine Inselrundfahrt mit Bimmelbahn. Auf rund 30 kmÂ² finden Sie hier Wald und Heide\, Watt und eine imposante DÃ¼nenkette\, sowie eine 12 km lange Brandungszone am einzigartigen Kniepsand\, dem breitesten Sandstrand Europas. AnschlieÃŸend geht es mit der FÃ¤hre nach DagebÃ¼ll zurÃ¼ck. \nÂ  \n 3. Tag:Â  FÃ¶hr \nHeute geht es mir der FÃ¤hre nach FÃ¶hr. Kilometerlange SandstrÃ¤nde\, wunderschÃ¶ne Natur\, mildes Seeklima und viel friesische Tradition erwartet Sie. All das macht aus der zweitgrÃ¶ÃŸten deutschen Nordseeinsel die Friesische Karibik. In Wyk lernen sie den Kurpark\, die Kurpromenade mit eindrucksvollem Blick. 15 km langer Sandstrand und viele kleine Gassen mit GeschÃ¤ften in der Altstadt kennen. \n  \n 4. Tag:Â  Sylt \nAuf gehtÂ´s nach Sylt\, die grÃ¶ÃŸte der Nordfriesischen Inseln. Mit Ihrem Reiseleiter erleben Sie die Faszination der Insel mit ihren reizvollen Binnenlandschaften. Unterwegs sehen Sie das romantische KapitÃ¤nsdorf Keitum\, das noble Kampen und in der â€žHauptstadtâ€œ Westerland wartet die berÃ¼hmte FriedrichstraÃŸe mit exklusiven GeschÃ¤ften auf Sie. \nÂ  \n 5. Tag:Â  RÃ¼ckreise \nNach erlebnisreichen Urlaubstagen treten Sie die Heimreise an. \n 
URL:https://fichtenkamm.de/reise/nordsee-die-friesische-karibik/
CATEGORIES:Genuss- & Erlebnisreisen
ATTACH;FMTTYPE=image/jpeg:https://fichtenkamm.de/wp-content/uploads/2022/02/3AdobeStock_284927277_StPeterOrding.jpg
END:VEVENT
END:VCALENDAR