BEGIN:VCALENDAR
VERSION:2.0
PRODID:-//Fichtenkamm Reisen - ECPv5.12.3//NONSGML v1.0//EN
CALSCALE:GREGORIAN
METHOD:PUBLISH
X-WR-CALNAME:Fichtenkamm Reisen
X-ORIGINAL-URL:https://fichtenkamm.de
X-WR-CALDESC:Veranstaltungen fÃ¼r Fichtenkamm Reisen
BEGIN:VTIMEZONE
TZID:Europe/Berlin
BEGIN:DAYLIGHT
TZOFFSETFROM:+0100
TZOFFSETTO:+0200
TZNAME:CEST
DTSTART:20250330T010000
END:DAYLIGHT
BEGIN:STANDARD
TZOFFSETFROM:+0200
TZOFFSETTO:+0100
TZNAME:CET
DTSTART:20251026T010000
END:STANDARD
END:VTIMEZONE
BEGIN:VEVENT
DTSTART;VALUE=DATE:20250702
DTEND;VALUE=DATE:20250707
DTSTAMP:20260422T085205
CREATED:20250116T140656Z
LAST-MODIFIED:20250124T165733Z
UID:15264-1751414400-1751846399@fichtenkamm.de
SUMMARY:Naturerlebnis AllgÃ¤u
DESCRIPTION:Die Urlaubsregion AllgÃ¤u ist ein wahres Naturerlebnis und gehÃ¶rt zu den schÃ¶nsten Reisezielen Bayerns. Bayerische Traditionen\, Berge und blaue Seen stehen im Fokus dieser Reise. Tauchen Sie ein in die malerische Landschaft\, wo imposante Berge und idyllische DÃ¶rfer ein unvergleichliches Panorama bieten. Erleben Sie die Ferienregion Oberschwaben-AllgÃ¤u von seiner schÃ¶nsten Seite! \n  \n1. Tag: Anreise \nAnreise nach Ã¼ber Ulm mit kleinem gefÃ¼hrten Stadtrundgang. Danach Weiterfahrt nach Wolfegg in Oberschwaben zu Ihrem Hotel. \n  \n2. Tag: Ravensburg &#8211; Bad Waldsee\n \nHeute erwartet Sie die Spielestadt Ravensburg. Erkunden Sie den gut erhaltenen mittelalterlichen Stadtkern und erfahren bei einer FÃ¼hrung nÃ¤heres zur Stadtgeschichte. AnschlieÃŸend fahren Sie ins charmante StÃ¤dtchen Bad Waldsee\, wo Sie Zeit fÃ¼r eine individuelle Mittagspause haben. Erkunden Sie die mit prachtvollen GebÃ¤uden gespickte Altstadt und die barocke Stiftskirche. Danach erwartet Sie ein besonderes Erlebnis im nostalgischen Erwin-Hymer-Museum. \n  \n3. Tag: Wangen &#8211; Alpsee &#8211; Isny\n \nVormittags werden Sie in Wangen bei einer StadtfÃ¼hrung historische GebÃ¤ude und interessante Skulpturen auf einer der schÃ¶nsten StraÃŸenzÃ¼ge SÃ¼ddeutschlands bestaunen. Mittagsimbiss im BrÃ¤ustÃ¼ble der Meckatzer Brauerei. Danach geht es vorbei an Oberstaufen und entlang der â€žNagelfluhketteâ€œ bis zum GroÃŸen Alpsee bei Immenstadt. Freizeit fÃ¼r einen Spaziergang an der Seepromenade oder Kaffee mit Blick aufÂ´s Wasser. Die RÃ¼ckroute fÃ¼hrt Ã¼ber Isny mit seiner begehbaren Stadtmauer zurÃ¼ck zum Hotel. \n  \n4. Tag: Memmingen &#8211; Ottobeuren &#8211; Kempten\n \nDer heutige Tag steht im Zeichen des Barock. In Memmingen werden Sie den imposanten Marktplatz mit den historischen GebÃ¤uden bei einem gefÃ¼hrten Rundgang erleben. Danach geht es ins benachbarte Ottobeuren\, wo ein regionaltypischer Mittagsimbiss auf Sie wartet: Original AllgÃ¤uer KÃ¤sespÃ¤tzle und selbstgebrautes Bier. Die RÃ¼ckfahrt fÃ¼hrt Ã¼ber Kempten. Lernen Sie die RÃ¶merstadt mit ihrer 2000jÃ¤hrigen Geschichte bei einer StadtfÃ¼hrung kennen\, bevor es durch das WestallgÃ¤u zurÃ¼ck zum Hotel geht. \n  \n5. Tag: RÃ¼ckreise \nMit schÃ¶nen Erinnerungen im GepÃ¤ck\, heiÃŸt es leider Abschied nehmen. RÃ¼ckreise zu Ihrem Ausgangsort
URL:https://fichtenkamm.de/reise/naturerlebnis-allgaeu/
CATEGORIES:Genuss- & Erlebnisreisen,Urlaubsreisen
ATTACH;FMTTYPE=image/jpeg:https://fichtenkamm.de/wp-content/uploads/2021/01/3AdobeStock_112598669_Oberstdorf.jpg
END:VEVENT
END:VCALENDAR