BEGIN:VCALENDAR
VERSION:2.0
PRODID:-//Fichtenkamm Reisen - ECPv5.12.3//NONSGML v1.0//EN
CALSCALE:GREGORIAN
METHOD:PUBLISH
X-WR-CALNAME:Fichtenkamm Reisen
X-ORIGINAL-URL:https://fichtenkamm.de
X-WR-CALDESC:Veranstaltungen für Fichtenkamm Reisen
BEGIN:VTIMEZONE
TZID:Europe/Berlin
BEGIN:DAYLIGHT
TZOFFSETFROM:+0100
TZOFFSETTO:+0200
TZNAME:CEST
DTSTART:20250330T010000
END:DAYLIGHT
BEGIN:STANDARD
TZOFFSETFROM:+0200
TZOFFSETTO:+0100
TZNAME:CET
DTSTART:20251026T010000
END:STANDARD
END:VTIMEZONE
BEGIN:VEVENT
DTSTART;VALUE=DATE:20250712
DTEND;VALUE=DATE:20250713
DTSTAMP:20260422T084653
CREATED:20250515T093733Z
LAST-MODIFIED:20250515T093733Z
UID:15811-1752278400-1752364799@fichtenkamm.de
SUMMARY:Moulin Rouge!
DESCRIPTION:Baz Luhrmann lässt sein oscarprämiertes Meisterwerk auf der Bühne explodieren und lädt das Publikum in eine außergewöhnliche Kulisse ein\, die Nachtclub\, Theater und Tanzsaal in einem ist. Mit 75 Songs von 165 Komponist*innen feiert Moulin Rouge! Das Musical über 160 Jahre Popmusikgeschichte &#8211; von Offenbach bis Lady Gaga &#8211; und entfacht ein musikalisches Feuerwerk.
URL:https://fichtenkamm.de/reise/moulin-rouge-2/
CATEGORIES:Hervorgehobene Reisen,Tagesreisen
ATTACH;FMTTYPE=image/jpeg:https://fichtenkamm.de/wp-content/uploads/2023/03/Moulin-Rouge-Koeln-3.jpg
END:VEVENT
END:VCALENDAR