BEGIN:VCALENDAR
VERSION:2.0
PRODID:-//Fichtenkamm Reisen - ECPv5.12.3//NONSGML v1.0//EN
CALSCALE:GREGORIAN
METHOD:PUBLISH
X-WR-CALNAME:Fichtenkamm Reisen
X-ORIGINAL-URL:https://fichtenkamm.de
X-WR-CALDESC:Veranstaltungen fÃ¼r Fichtenkamm Reisen
BEGIN:VTIMEZONE
TZID:Europe/Berlin
BEGIN:DAYLIGHT
TZOFFSETFROM:+0100
TZOFFSETTO:+0200
TZNAME:CEST
DTSTART:20260329T010000
END:DAYLIGHT
BEGIN:STANDARD
TZOFFSETFROM:+0200
TZOFFSETTO:+0100
TZNAME:CET
DTSTART:20261025T010000
END:STANDARD
END:VTIMEZONE
BEGIN:VEVENT
DTSTART;VALUE=DATE:20260607
DTEND;VALUE=DATE:20260613
DTSTAMP:20260419T151333
CREATED:20260206T163834Z
LAST-MODIFIED:20260206T164028Z
UID:16314-1780790400-1781308799@fichtenkamm.de
SUMMARY:Mediteranes Flair in Grado
DESCRIPTION:Entdecken Sie Friaul-Julisch Venetien: Italiens Juwel zwischen Alpen und Adria. Die Region im Nordosten besticht durch kulturelle SchÃ¤tze\, erstklassige Kulinarik und eine beeindruckende Naturkulisse. Erleben Sie das habsburgische Flair in Triest mit dem Schloss Miramare\, genieÃŸen Sie traumhafte SandstrÃ¤nde und Lagunen oder erkunden Sie malerische\, venezianisch geprÃ¤gte StÃ¤dte. Ein abwechslungsreiches Reiseziel\, das Geschichte und Erholung perfekt vereint.\n \n  \n1. Tag:Â  Â Anreise\n \nAnreise Ã¼ber MÃ¼nchen â€“ Villach nach Grado zu Ihrem 4*Hotel. \n  \n2. Tag:Â  Grado & Aquileila \nHeute erkunden Sie die malerische Altstadt Grado mit ihren prachtvollen Sakralbauten. Die AtmosphÃ¤re ist durchdrungen von Kunst und Geschichte\, sichtbar in den beeindruckenden Kirchen\, dem Dom und der Taufkapelle. Weiter geht es nach Aquileia\, einer bedeutenden Kaiserresidenz der SpÃ¤tantike. Zuletzt lÃ¤dt die Insel Barbara mit ihren sanften Ufern und sonnigen Lichtspielen zum Verweilen ein. \n  \n3. Tag:Â  Triest \nDer Tag beginnt mit einem Besuch des Schlosses Miramare\, das eindrucksvoll auf einem Felsvorsprung liegt. AnschlieÃŸend erkunden Sie die grÃ¶ÃŸte Stadt der Region. Ihre StadtfÃ¼hrung zeigt Ihnen die SehenswÃ¼rdigkeiten und den Hafen von Triest. Der Nachmittag bietet Freizeit\, um die Stadt auf eigene Faust zu entdecken oder in einem der charmanten CafÃ©s zu entspannen. \n  \n4. Tag:Â  Â  Udine & Cividale del Friuli \nEin Besuch der lebhaften Stadt Udine steht auf dem Programm. Bei einem gefÃ¼hrten Rundgang lernen Sie die schÃ¶nsten PlÃ¤tze des Ortes kennen. AnschlieÃŸend geht es in die einstige langobardische Stadt nach Cividale del Friuli. Nach der Besichtigung Weiterfahrt ins Weinanbaugebiet des Collio. Hier werden einige der besten italienischen Weine produziert. Da darf eine Verkostung natÃ¼rlich nicht fehlen. \n  \n5. Tag:Â  Â  Freizeit \nDer heutige Tag steht fÃ¼r eigene Unternehmungen zur freien VerfÃ¼gung. Nutzen Sie die Gelegenheit\, um Ihren Urlaubsort auf eigene Faust zu erkunden. \n  \n6. Tag:Â  Â  RÃ¼ckreise \nHeute heiÃŸt es leider schon wieder Abschied nehmen von Grado. \n 
URL:https://fichtenkamm.de/reise/mediteranes-flair-in-grado/
CATEGORIES:Genuss- & Erlebnisreisen,Urlaubsreisen
ATTACH;FMTTYPE=image/jpeg:https://fichtenkamm.de/wp-content/uploads/2023/03/3AdobeStock_117920765.jpg
END:VEVENT
END:VCALENDAR