BEGIN:VCALENDAR
VERSION:2.0
PRODID:-//Fichtenkamm Reisen - ECPv5.12.3//NONSGML v1.0//EN
CALSCALE:GREGORIAN
METHOD:PUBLISH
X-WR-CALNAME:Fichtenkamm Reisen
X-ORIGINAL-URL:https://fichtenkamm.de
X-WR-CALDESC:Veranstaltungen fÃ¼r Fichtenkamm Reisen
BEGIN:VTIMEZONE
TZID:Europe/Berlin
BEGIN:DAYLIGHT
TZOFFSETFROM:+0100
TZOFFSETTO:+0200
TZNAME:CEST
DTSTART:20250330T010000
END:DAYLIGHT
BEGIN:STANDARD
TZOFFSETFROM:+0200
TZOFFSETTO:+0100
TZNAME:CET
DTSTART:20251026T010000
END:STANDARD
END:VTIMEZONE
BEGIN:VEVENT
DTSTART;VALUE=DATE:20250706
DTEND;VALUE=DATE:20250712
DTSTAMP:20260422T085349
CREATED:20250124T171044Z
LAST-MODIFIED:20250124T171044Z
UID:15329-1751760000-1752278399@fichtenkamm.de
SUMMARY:Mecklenburgische Seenplatte
DESCRIPTION:Herzlich willkommen im â€žLand der tausend Seenâ€œ!Â  WunderschÃ¶n gelegen und ein echtes Naturerlebnis ist die Mecklenburgischen Seenplatte. Die wohl bekanntesten Seen hier sind die MÃ¼ritz und der Fleesensee. Erleben Sie die herrliche naturbelassene Mecklenburgische Seenplatte mit ihren idyllischen DÃ¶rfern und Landschaften. Hier scheint die Zeit stehen geblieben zu sein. Wo die Warnow in die Ostsee flieÃŸt\, liegt das Seebad WarnemÃ¼nde. 1195 erstmals urkundlich erwÃ¤hnt gehÃ¶rt das frÃ¼here Fischerdorf seit 1323 zur Hansestadt Rostock und ist einer ihrerÂ schÃ¶nsten Stadtteile und einer der traditionellen deutschen Badeorte an der OstseekÃ¼ste. \n  \n1. Tag: Anreise \nAm frÃ¼hen Morgen startet Ihre Reise nach Mecklenburg-Vorpommern. Anreise mit gemÃ¼tlichem Picknick-Stopp nach GÃ¶hren-Lebbin zu Ihrem schÃ¶nen Seehotel am Fleesensee. Idyllisch inmitten der Mecklenburger Seenplatte direkt am Fleesensee befindet sich Ihr Urlaubs Resort. Â Nach der Zimmerverteilung erwartet Sie das AbendmenÃ¼ im Hotel. \n  \n2. Tag: GÃ¼strow-Schwerin \nNach dem FrÃ¼hstÃ¼ck starten Sie zur Fahrt in die Landeshauptstadt Schwerin. ZunÃ¤chst machen Sie einen Stopp in GÃ¼strow\, die mit Ihrer Altstadt mit Fachwerk und Bachsteingotik beeindruckt. Danach geht es weiter zur Landeshauptstadt Schwerin. Â Hier unternehmen Sie eine ausgedehnte Stadtrundfahrt mit anschlieÃŸendem ausstieg am Schloss und individuellem Aufenthalt. Nutzen Sie die Gelegenheit\, um die Ã¤lteste Stadt des Landes auf eigene Faust zu erkunden. Abendessen im Hotel. \n  \n3. Tag: Â Rostock-WarnemÃ¼nde \nStÃ¤rken Sie sich am Morgen am FrÃ¼hstÃ¼cksbuffet. Heute dÃ¼rfen Sie sich auf die Hansestadt Rostock freuen. Gemeinsam mit Ihrem Reiseleiter folgen Sie den Spuren der Hanse- und UniversitÃ¤tsstadt und entdecken viele interessante und aufregender Anekdoten Ã¼ber die GebÃ¤ude und PlÃ¤tze der Rostocker Innenstadt. Nach der Mittagspause geht es nun per Schiff nach WarnemÃ¼nde in Kombination mit der GroÃŸen Hafenrundfahrt. In WarnemÃ¼nde angekommen erleben Sie die Bummelmeile am Alten Strom\, Backsteingotik und historische FischerhÃ¤user\, die fÃ¼r das typisch hanseatische KÃ¼stenflair von WarnemÃ¼nde stehen. Freuen Sie sich am Abend auf das MenÃ¼ im Hotel. \n  \n4. Tag:Â  Neustrelitz-Rheinsberg \nNach dem FrÃ¼hstÃ¼cksbuffet geht es mit Ihrer Reiseleitung auf zur Landschaftsrundfahrt Ã¼ber RÃ¶bel nach Mirow. Nach einem Halt an der Schlossanlag mit einem kleinen gefÃ¼hrten Rundgang zur â€žLiebesinselâ€œ geht es weiter nach Neustrelitz\, wo eine Mittagspause eingelegt wird. Am Nachmittag Weiterfahrt nach Rheinsberg. Der romantische Ort mit seiner Altstadt und dem prunkvollen Schloss wird Sie sicherlich verzaubern. Danach geht es wieder zurÃ¼ck zum Hotel. Freuen Sie sich auf das Abendbuffet im Hotel. \nÂ  \n5. Tag:Â  Rundfahrt &#8211; Seenplatte \nHeute steht nach dem FrÃ¼hstÃ¼ck eine schÃ¶ne Rundfahrt durch die Seenplattenregion auf Ihrem Programm. Entdecken Sie mit Ihrer sachkundigen FÃ¼hrung die wichtigsten SehenswÃ¼rdigkeiten. Freuen Sie sich ebenso auf die FÃ¼nf-Seenfahrt mit den idyllischen VerbindungskanÃ¤len und der MÃ¼ritz nach Waren. Danach geht es weiter durch die Mecklenburger Schweiz nach Basedow mit Schloss\, Schlosspark und Kirche. Abendessen im Hotel. \nÂ  \n6. Tag:Â  RÃ¼ckreise \nMit vielen neuen EindrÃ¼cken im GepÃ¤ck heiÃŸt es nach dem FrÃ¼hstÃ¼ck leider schon wieder Abschied nehmen von Mecklenburg-Vorpommern. \n 
URL:https://fichtenkamm.de/reise/mecklenburgische-seenplatte-5/
CATEGORIES:Genuss- & Erlebnisreisen,Urlaubsreisen
END:VEVENT
END:VCALENDAR