BEGIN:VCALENDAR
VERSION:2.0
PRODID:-//Fichtenkamm Reisen - ECPv5.12.3//NONSGML v1.0//EN
CALSCALE:GREGORIAN
METHOD:PUBLISH
X-WR-CALNAME:Fichtenkamm Reisen
X-ORIGINAL-URL:https://fichtenkamm.de
X-WR-CALDESC:Veranstaltungen für Fichtenkamm Reisen
BEGIN:VTIMEZONE
TZID:Europe/Berlin
BEGIN:DAYLIGHT
TZOFFSETFROM:+0100
TZOFFSETTO:+0200
TZNAME:CEST
DTSTART:20220327T010000
END:DAYLIGHT
BEGIN:STANDARD
TZOFFSETFROM:+0200
TZOFFSETTO:+0100
TZNAME:CET
DTSTART:20221030T010000
END:STANDARD
END:VTIMEZONE
BEGIN:VEVENT
DTSTART;VALUE=DATE:20221203
DTEND;VALUE=DATE:20221204
DTSTAMP:20260423T210552
CREATED:20221111T114320Z
LAST-MODIFIED:20221111T114320Z
UID:12497-1670025600-1670111999@fichtenkamm.de
SUMMARY:Marché de Noel in Metz
DESCRIPTION:Kommen Sie nach Metz\, um den Zauber der Weihnachtszeit zu erleben. Der zweitgrößte Weihnachtsmarkt Frankreichs mit der schönsten Beleuchtung\, so schmückt sich ganz Metz im schönsten Lichterkleid und lässt bei Ihnen Festtagsstimmung aufkommen!
URL:https://fichtenkamm.de/reise/marche-de-noel-in-metz/
CATEGORIES:Tagesreisen,Weihnachtsmärkte
ATTACH;FMTTYPE=image/jpeg:https://fichtenkamm.de/wp-content/uploads/2021/09/3zuoqi-liu-f1PR3f-v3fA-unsplash.jpg
END:VEVENT
END:VCALENDAR