BEGIN:VCALENDAR
VERSION:2.0
PRODID:-//Fichtenkamm Reisen - ECPv5.12.3//NONSGML v1.0//EN
CALSCALE:GREGORIAN
METHOD:PUBLISH
X-WR-CALNAME:Fichtenkamm Reisen
X-ORIGINAL-URL:https://fichtenkamm.de
X-WR-CALDESC:Veranstaltungen fÃ¼r Fichtenkamm Reisen
BEGIN:VTIMEZONE
TZID:Europe/Berlin
BEGIN:DAYLIGHT
TZOFFSETFROM:+0100
TZOFFSETTO:+0200
TZNAME:CEST
DTSTART:20220327T010000
END:DAYLIGHT
BEGIN:STANDARD
TZOFFSETFROM:+0200
TZOFFSETTO:+0100
TZNAME:CET
DTSTART:20221030T010000
END:STANDARD
END:VTIMEZONE
BEGIN:VEVENT
DTSTART;VALUE=DATE:20220808
DTEND;VALUE=DATE:20220812
DTSTAMP:20260424T013432
CREATED:20220216T110120Z
LAST-MODIFIED:20220225T100451Z
UID:12398-1659916800-1660262399@fichtenkamm.de
SUMMARY:Magischer Harz
DESCRIPTION:GÃ¶nnen Sie sich eine Auszeit im schÃ¶nen Harz. Die Region zÃ¤hltÂ  zu den traditionsreichsten Reisezielen in Deutschland. Faszinierende Landschaften mit weiten WÃ¤ldern\, tiefen TÃ¤lern und einmalige\, historische KulturschÃ¤tze. Schon frÃ¼h erkannten groÃŸe Dichter wie Goethe und Heine die mystische SchÃ¶nheit von Deutschlands nÃ¶rdlichstem Mittelgebirge. GenieÃŸen Sie ein paar Urlaubstage in dieser Romantischen Landschaft.\n \n  \nTag 1:Â  Â Goslar-Hahnenklee \nIhre Anreise startet am frÃ¼hen Morgen und fÃ¼hrt Ã¼ber Frankfurt &#8211; Kassel &#8211; GÃ¶ttingen nach Goslar zu Ihrem schÃ¶nen Hotel. Nach Ankunft und dem Check-In in Ihrem Hotel erwartet Sie zur BegrÃ¼ÃŸung Kaffee und Kuchen.Â  Bis zum Abendessen steht Ihnen Zeit zur freien VerfÃ¼gung. \n  \nTag 2:Â  Â Goslar \nGestÃ¤rkt vom FrÃ¼hstÃ¼ck steht fÃ¼r heute die Entdeckung der schÃ¶nen Stadt Goslar auf dem Programm. Ihre StadtfÃ¼hrung erwartet Sie zu einem Rundgang durch die mittelalterliche Altstadt mit der Kaiserpfalz. Der Marktplatz mit Brunnen\, Ã¼berragt vom Reichsadler\, ist das Symbol der Stadt. Im Anschluss steht Ihnen Zeit zur freien VerfÃ¼gung\, um bei einem Spaziergang das Flair entlang der mittelalterlichen Stadtbefestigung genieÃŸen zu kÃ¶nnen. RÃ¼ckkehr im Hotel mit anschlieÃŸendem Kaffee und Kuchen. Nach dem Abendessen kÃ¶nnen Sie den Tag gemÃ¼tlich ausklingen lassen. \n  \nTag 3:Â  Â Ostharz-Rundfahrt \nEine ganztÃ¤gige Rundfahrt durch den Harz steht nach dem FrÃ¼hstÃ¼ck auf Ihrem Programm. Ihr GÃ¤stefÃ¼hrer erwartet Sie bereits im Hotel. Wernigerode\, die &#8222;Bunte Stadt&#8220; am Harz\, darf wÃ¤hrend Ihres Ausfluges nichtÂ  fehlen. Malerisch in die reizvolle Landschaft eingebettet erwarten Sie farbenfrohe Fachwerkbauten und enge Kopfsteinpflastergassen. Erleben Sie den besonderen Flair\, der von dieser Stadt ausgeht. Eine weitere Station wird die mittelalterliche Stadt Quedlinburg sein. Sie war im Mittelalter eine der bedeutendsten KÃ¶nigs- und Kaiserpfalzen und spÃ¤ter Mitglied der Hanse. Heute weist sie das grÃ¶ÃŸte Fachwerkensemble Deutschlands vor. Die Stiftskirche aus der Zeit der Romanik gehÃ¶rt seit 1995 ebenso zum UNESCO-Weltkulturerbe wie die historische Altstadt. Ein Highlight des Tages wird der Besuch des bekannten Hexentanzplatzes in Thale mit dem rekonstruierten Harzer Bergtheater sein. Treffen Sie dort die Hexe mit dem &#8222;HexengesÃ¶ff&#8220;. Bei einem Besuch der staatlichen Glasmanufaktur Harzkristall in Derenburg\, der traditionellen MundglashÃ¼tte im Zeichen der Brockenhexe\, kÃ¶nnen Sie die Faszination der Glasfertigung hautnah erleben und die Produkte gÃ¼nstig erstehen. Abendessen im Hotel. \n  \nTag 4:Â  Â RÃ¼ckreise \nLeider heiÃŸt es heute nach dem FrÃ¼hstÃ¼ck Abschied nehmen vom Harz. \n  \n 
URL:https://fichtenkamm.de/reise/magischer-harz-3/
CATEGORIES:Genuss- & Erlebnisreisen,Kurzreisen
ATTACH;FMTTYPE=image/jpeg:https://fichtenkamm.de/wp-content/uploads/2022/02/9_Stefan-SchieferAltstadt-Marktplatz-im-Sonnenschein.jpg
END:VEVENT
END:VCALENDAR