BEGIN:VCALENDAR
VERSION:2.0
PRODID:-//Fichtenkamm Reisen - ECPv5.12.3//NONSGML v1.0//EN
CALSCALE:GREGORIAN
METHOD:PUBLISH
X-WR-CALNAME:Fichtenkamm Reisen
X-ORIGINAL-URL:https://fichtenkamm.de
X-WR-CALDESC:Veranstaltungen für Fichtenkamm Reisen
BEGIN:VTIMEZONE
TZID:UTC
BEGIN:STANDARD
TZOFFSETFROM:+0000
TZOFFSETTO:+0000
TZNAME:UTC
DTSTART:20260101T000000
END:STANDARD
END:VTIMEZONE
BEGIN:VEVENT
DTSTART;VALUE=DATE:20260429
DTEND;VALUE=DATE:20260505
DTSTAMP:20260422T154455
CREATED:20260119T152058Z
LAST-MODIFIED:20260119T152058Z
UID:16233-1777420800-1777939199@fichtenkamm.de
SUMMARY:Luxus & Entspannung in den Rimske Terme
DESCRIPTION:Tauchen Sie ein in eine Welt der Erholung: Unsere Reise führt Sie zu den heilenden Quellen der Rimske Terme und mitten in das pulsierende Herz slowenischer Kultur. Entdecken Sie die faszinierenden Schönheiten und den historischen Charme der ältesten Städte des Landes. Freuen Sie sich auf entspannte Momente\, spannende Geschichte\, edle Weine und die unvergleichliche slowenische Lebensart bei einem vielseitigen Ausflugsprogramm. \n \n 1. Tag:  Anreise  \nNach einer entspannten Anreise beziehen Sie Ihr schönes 4*Superior-Hotel in Rimske Toplice. Zum Abschluss des ersten Tages genießen Sie das Abendessen im Hotel. \n \n 2. Tag:  Celje & Galizien \nBesuchen Sie heute die historische Stadt Celje\, die drittgrößte Stadt Sloweniens. Im Mittelalter war Celje das Zentrum des einzigen slowenischen Staates. Ein Spaziergang durch die malerischen Gassen wird Sie verzaubern. Weiter geht es nach Galizien\, wo Sie den größten Bauernhof besuchen und anschließend eine reichhaltige Jause mit köstlichen Milchprodukten genießen. \n \n3. Tag:   Ptuj & Weinstraße Jeruzalem \nHeute geht es nach Ptuj\, eine der ältesten Städte Sloweniens\, die mit ihrem malerischen Altstadttor\, der Burg und dem Flussufer Charme verströmt. Ein entspanntes Bummeln durch die historischen Gassen lässt Geschichte lebendig werden. Weiter geht es in Richtung der Weinstraße Jeruzalem\, mit einem Halt in Središče\, wo Sie die Kürbiskernölmühle besichtigen und eine Verkostung genießen. Abgerundet wird der Tag durch eine Weinverkostung in einem traditionellen Weinhaus. \n \n 4. Tag:   Maribor & Zrece \nAuf dem Programm steht heute der Ausflug in die zweitgrößte Stadt Sloweniens: Maribor. Gelegen zwischen der sattgrünen Natur des Pohorje-Gebirges und einer sanften-Weinlandschaft\, wird die Stadt vom Fluss Drava in zwei Hälften geteilt. Lassen Sie sich von Geschichte und Tradition verzaubern. Hier wachsen einige der ältesten Rebstöcke der Welt\, teils 450 Jahre alt\, und erzählen über Generationen hinweg von Weinbaukunst und Heimatliebe. Auf dem Rückweg machen Sie einen Halt in der malerischen Stadt Zreče\, besuchen einen Weinkeller und genießen eine Weinverkostung mit Brot und Käse – ein genussvoller Abschluss Ihrer Reise. \n \n 5. Tag:  Erholung \nNach einem gemütlichen Frühstück steht der heutige Tag zur freien Verfügung. Nutzen Sie die Gelegenheit für einen gemütlichen Stadtrundgang oder einen entspannten Spaziergang durch die Umgebung. Den Abend krönt ein genussvolles Abendessen im Hotel\, auf das Sie sich schon jetzt freuen dürfen. \n \n 6. Tag:  Rückreise \nLeider heißt es heute schon wieder Abschied nehmen. Mit schönen Erinnerungen treten Sie die Heimreise an. \n
URL:https://fichtenkamm.de/reise/luxus-entspannung-in-den-rimske-terme/
CATEGORIES:Exclusivreise,Genuss- & Erlebnisreisen,Urlaubsreisen
END:VEVENT
END:VCALENDAR